BEGIN:VCALENDAR
VERSION:2.0
PRODID:-//Ponte Vedra Church - ECPv6.15.20//NONSGML v1.0//EN
CALSCALE:GREGORIAN
METHOD:PUBLISH
X-ORIGINAL-URL:https://pontevedra.church
X-WR-CALDESC:Events for Ponte Vedra Church
REFRESH-INTERVAL;VALUE=DURATION:PT1H
X-Robots-Tag:noindex
X-PUBLISHED-TTL:PT1H
BEGIN:VTIMEZONE
TZID:America/New_York
BEGIN:DAYLIGHT
TZOFFSETFROM:-0500
TZOFFSETTO:-0400
TZNAME:EDT
DTSTART:20210314T070000
END:DAYLIGHT
BEGIN:STANDARD
TZOFFSETFROM:-0400
TZOFFSETTO:-0500
TZNAME:EST
DTSTART:20211107T060000
END:STANDARD
BEGIN:DAYLIGHT
TZOFFSETFROM:-0500
TZOFFSETTO:-0400
TZNAME:EDT
DTSTART:20220313T070000
END:DAYLIGHT
BEGIN:STANDARD
TZOFFSETFROM:-0400
TZOFFSETTO:-0500
TZNAME:EST
DTSTART:20221106T060000
END:STANDARD
BEGIN:DAYLIGHT
TZOFFSETFROM:-0500
TZOFFSETTO:-0400
TZNAME:EDT
DTSTART:20230312T070000
END:DAYLIGHT
BEGIN:STANDARD
TZOFFSETFROM:-0400
TZOFFSETTO:-0500
TZNAME:EST
DTSTART:20231105T060000
END:STANDARD
END:VTIMEZONE
BEGIN:VEVENT
DTSTART;TZID=America/New_York:20220705T163000
DTEND;TZID=America/New_York:20220705T183000
DTSTAMP:20260419T201525
CREATED:20220113T155023Z
LAST-MODIFIED:20220711T191739Z
UID:10009871-1657038600-1657045800@pontevedra.church
SUMMARY:Grief Share
DESCRIPTION:Have you lost a loved one?  Grief is real and a very deep emotion.  We\ngrieve what we had as well as the future we will not have.  Grief is a\nprocess that takes time.  Friends often do not understand and quickly give\nup trying. \nCome and join our 13-week recovery support group at Ponte Vedra Church where we do understand and can help you turn your mourning into joy\nthrough a very difficult journey.
URL:https://pontevedra.church/event/grief-share/2022-07-05/
LOCATION:PVC; Upstairs Rm 209\, 76 S Roscoe Blvd\, Ponte Vedra\, FL\, 32082
ORGANIZER;CN="Marg Farnsworth":MAILTO:mfarns934@gmail.com
END:VEVENT
BEGIN:VEVENT
DTSTART;TZID=America/New_York:20220628T163000
DTEND;TZID=America/New_York:20220628T183000
DTSTAMP:20260419T201525
CREATED:20220113T155023Z
LAST-MODIFIED:20220711T191739Z
UID:10009870-1656433800-1656441000@pontevedra.church
SUMMARY:Grief Share
DESCRIPTION:Have you lost a loved one?  Grief is real and a very deep emotion.  We\ngrieve what we had as well as the future we will not have.  Grief is a\nprocess that takes time.  Friends often do not understand and quickly give\nup trying. \nCome and join our 13-week recovery support group at Ponte Vedra Church where we do understand and can help you turn your mourning into joy\nthrough a very difficult journey.
URL:https://pontevedra.church/event/grief-share/2022-06-28/
LOCATION:PVC; Upstairs Rm 209\, 76 S Roscoe Blvd\, Ponte Vedra\, FL\, 32082
ORGANIZER;CN="Marg Farnsworth":MAILTO:mfarns934@gmail.com
END:VEVENT
BEGIN:VEVENT
DTSTART;TZID=America/New_York:20220621T163000
DTEND;TZID=America/New_York:20220621T183000
DTSTAMP:20260419T201525
CREATED:20220113T155023Z
LAST-MODIFIED:20220711T191739Z
UID:10009869-1655829000-1655836200@pontevedra.church
SUMMARY:Grief Share
DESCRIPTION:Have you lost a loved one?  Grief is real and a very deep emotion.  We\ngrieve what we had as well as the future we will not have.  Grief is a\nprocess that takes time.  Friends often do not understand and quickly give\nup trying. \nCome and join our 13-week recovery support group at Ponte Vedra Church where we do understand and can help you turn your mourning into joy\nthrough a very difficult journey.
URL:https://pontevedra.church/event/grief-share/2022-06-21/
LOCATION:PVC; Upstairs Rm 209\, 76 S Roscoe Blvd\, Ponte Vedra\, FL\, 32082
ORGANIZER;CN="Marg Farnsworth":MAILTO:mfarns934@gmail.com
END:VEVENT
BEGIN:VEVENT
DTSTART;TZID=America/New_York:20220614T163000
DTEND;TZID=America/New_York:20220614T183000
DTSTAMP:20260419T201525
CREATED:20220113T155023Z
LAST-MODIFIED:20220711T191739Z
UID:10009868-1655224200-1655231400@pontevedra.church
SUMMARY:Grief Share
DESCRIPTION:Have you lost a loved one?  Grief is real and a very deep emotion.  We\ngrieve what we had as well as the future we will not have.  Grief is a\nprocess that takes time.  Friends often do not understand and quickly give\nup trying. \nCome and join our 13-week recovery support group at Ponte Vedra Church where we do understand and can help you turn your mourning into joy\nthrough a very difficult journey.
URL:https://pontevedra.church/event/grief-share/2022-06-14/
LOCATION:PVC; Upstairs Rm 209\, 76 S Roscoe Blvd\, Ponte Vedra\, FL\, 32082
ORGANIZER;CN="Marg Farnsworth":MAILTO:mfarns934@gmail.com
END:VEVENT
BEGIN:VEVENT
DTSTART;TZID=America/New_York:20220607T163000
DTEND;TZID=America/New_York:20220607T183000
DTSTAMP:20260419T201525
CREATED:20220113T155023Z
LAST-MODIFIED:20220711T191739Z
UID:10009867-1654619400-1654626600@pontevedra.church
SUMMARY:Grief Share
DESCRIPTION:Have you lost a loved one?  Grief is real and a very deep emotion.  We\ngrieve what we had as well as the future we will not have.  Grief is a\nprocess that takes time.  Friends often do not understand and quickly give\nup trying. \nCome and join our 13-week recovery support group at Ponte Vedra Church where we do understand and can help you turn your mourning into joy\nthrough a very difficult journey.
URL:https://pontevedra.church/event/grief-share/2022-06-07/
LOCATION:PVC; Upstairs Rm 209\, 76 S Roscoe Blvd\, Ponte Vedra\, FL\, 32082
ORGANIZER;CN="Marg Farnsworth":MAILTO:mfarns934@gmail.com
END:VEVENT
BEGIN:VEVENT
DTSTART;TZID=America/New_York:20220531T163000
DTEND;TZID=America/New_York:20220531T183000
DTSTAMP:20260419T201525
CREATED:20220113T155023Z
LAST-MODIFIED:20220711T191739Z
UID:10009866-1654014600-1654021800@pontevedra.church
SUMMARY:Grief Share
DESCRIPTION:Have you lost a loved one?  Grief is real and a very deep emotion.  We\ngrieve what we had as well as the future we will not have.  Grief is a\nprocess that takes time.  Friends often do not understand and quickly give\nup trying. \nCome and join our 13-week recovery support group at Ponte Vedra Church where we do understand and can help you turn your mourning into joy\nthrough a very difficult journey.
URL:https://pontevedra.church/event/grief-share/2022-05-31/
LOCATION:PVC; Upstairs Rm 209\, 76 S Roscoe Blvd\, Ponte Vedra\, FL\, 32082
ORGANIZER;CN="Marg Farnsworth":MAILTO:mfarns934@gmail.com
END:VEVENT
BEGIN:VEVENT
DTSTART;TZID=America/New_York:20220524T163000
DTEND;TZID=America/New_York:20220524T183000
DTSTAMP:20260419T201525
CREATED:20220113T155023Z
LAST-MODIFIED:20220711T191739Z
UID:10009865-1653409800-1653417000@pontevedra.church
SUMMARY:Grief Share
DESCRIPTION:Have you lost a loved one?  Grief is real and a very deep emotion.  We\ngrieve what we had as well as the future we will not have.  Grief is a\nprocess that takes time.  Friends often do not understand and quickly give\nup trying. \nCome and join our 13-week recovery support group at Ponte Vedra Church where we do understand and can help you turn your mourning into joy\nthrough a very difficult journey.
URL:https://pontevedra.church/event/grief-share/2022-05-24/
LOCATION:PVC; Upstairs Rm 209\, 76 S Roscoe Blvd\, Ponte Vedra\, FL\, 32082
ORGANIZER;CN="Marg Farnsworth":MAILTO:mfarns934@gmail.com
END:VEVENT
BEGIN:VEVENT
DTSTART;TZID=America/New_York:20220517T163000
DTEND;TZID=America/New_York:20220517T183000
DTSTAMP:20260419T201525
CREATED:20220113T155023Z
LAST-MODIFIED:20220711T191739Z
UID:10009864-1652805000-1652812200@pontevedra.church
SUMMARY:Grief Share
DESCRIPTION:Have you lost a loved one?  Grief is real and a very deep emotion.  We\ngrieve what we had as well as the future we will not have.  Grief is a\nprocess that takes time.  Friends often do not understand and quickly give\nup trying. \nCome and join our 13-week recovery support group at Ponte Vedra Church where we do understand and can help you turn your mourning into joy\nthrough a very difficult journey.
URL:https://pontevedra.church/event/grief-share/2022-05-17/
LOCATION:PVC; Upstairs Rm 209\, 76 S Roscoe Blvd\, Ponte Vedra\, FL\, 32082
ORGANIZER;CN="Marg Farnsworth":MAILTO:mfarns934@gmail.com
END:VEVENT
BEGIN:VEVENT
DTSTART;TZID=America/New_York:20220510T163000
DTEND;TZID=America/New_York:20220510T183000
DTSTAMP:20260419T201525
CREATED:20220113T155023Z
LAST-MODIFIED:20220711T191739Z
UID:10009863-1652200200-1652207400@pontevedra.church
SUMMARY:Grief Share
DESCRIPTION:Have you lost a loved one?  Grief is real and a very deep emotion.  We\ngrieve what we had as well as the future we will not have.  Grief is a\nprocess that takes time.  Friends often do not understand and quickly give\nup trying. \nCome and join our 13-week recovery support group at Ponte Vedra Church where we do understand and can help you turn your mourning into joy\nthrough a very difficult journey.
URL:https://pontevedra.church/event/grief-share/2022-05-10/
LOCATION:PVC; Upstairs Rm 209\, 76 S Roscoe Blvd\, Ponte Vedra\, FL\, 32082
ORGANIZER;CN="Marg Farnsworth":MAILTO:mfarns934@gmail.com
END:VEVENT
BEGIN:VEVENT
DTSTART;TZID=America/New_York:20220503T163000
DTEND;TZID=America/New_York:20220503T183000
DTSTAMP:20260419T201525
CREATED:20220113T155023Z
LAST-MODIFIED:20220711T191739Z
UID:10009862-1651595400-1651602600@pontevedra.church
SUMMARY:Grief Share
DESCRIPTION:Have you lost a loved one?  Grief is real and a very deep emotion.  We\ngrieve what we had as well as the future we will not have.  Grief is a\nprocess that takes time.  Friends often do not understand and quickly give\nup trying. \nCome and join our 13-week recovery support group at Ponte Vedra Church where we do understand and can help you turn your mourning into joy\nthrough a very difficult journey.
URL:https://pontevedra.church/event/grief-share/2022-05-03/
LOCATION:PVC; Upstairs Rm 209\, 76 S Roscoe Blvd\, Ponte Vedra\, FL\, 32082
ORGANIZER;CN="Marg Farnsworth":MAILTO:mfarns934@gmail.com
END:VEVENT
BEGIN:VEVENT
DTSTART;TZID=America/New_York:20220426T163000
DTEND;TZID=America/New_York:20220426T183000
DTSTAMP:20260419T201525
CREATED:20220113T155023Z
LAST-MODIFIED:20220711T191739Z
UID:10009861-1650990600-1650997800@pontevedra.church
SUMMARY:Grief Share
DESCRIPTION:Have you lost a loved one?  Grief is real and a very deep emotion.  We\ngrieve what we had as well as the future we will not have.  Grief is a\nprocess that takes time.  Friends often do not understand and quickly give\nup trying. \nCome and join our 13-week recovery support group at Ponte Vedra Church where we do understand and can help you turn your mourning into joy\nthrough a very difficult journey.
URL:https://pontevedra.church/event/grief-share/2022-04-26/
LOCATION:PVC; Upstairs Rm 209\, 76 S Roscoe Blvd\, Ponte Vedra\, FL\, 32082
ORGANIZER;CN="Marg Farnsworth":MAILTO:mfarns934@gmail.com
END:VEVENT
BEGIN:VEVENT
DTSTART;TZID=America/New_York:20220419T163000
DTEND;TZID=America/New_York:20220419T183000
DTSTAMP:20260419T201525
CREATED:20220113T155023Z
LAST-MODIFIED:20220711T191739Z
UID:10009860-1650385800-1650393000@pontevedra.church
SUMMARY:Grief Share
DESCRIPTION:Have you lost a loved one?  Grief is real and a very deep emotion.  We\ngrieve what we had as well as the future we will not have.  Grief is a\nprocess that takes time.  Friends often do not understand and quickly give\nup trying. \nCome and join our 13-week recovery support group at Ponte Vedra Church where we do understand and can help you turn your mourning into joy\nthrough a very difficult journey.
URL:https://pontevedra.church/event/grief-share/2022-04-19/
LOCATION:PVC; Upstairs Rm 209\, 76 S Roscoe Blvd\, Ponte Vedra\, FL\, 32082
ORGANIZER;CN="Marg Farnsworth":MAILTO:mfarns934@gmail.com
END:VEVENT
BEGIN:VEVENT
DTSTART;TZID=America/New_York:20220412T163000
DTEND;TZID=America/New_York:20220412T183000
DTSTAMP:20260419T201525
CREATED:20220113T155023Z
LAST-MODIFIED:20220711T191739Z
UID:10009859-1649781000-1649788200@pontevedra.church
SUMMARY:Grief Share
DESCRIPTION:Have you lost a loved one?  Grief is real and a very deep emotion.  We\ngrieve what we had as well as the future we will not have.  Grief is a\nprocess that takes time.  Friends often do not understand and quickly give\nup trying. \nCome and join our 13-week recovery support group at Ponte Vedra Church where we do understand and can help you turn your mourning into joy\nthrough a very difficult journey.
URL:https://pontevedra.church/event/grief-share/2022-04-12/
LOCATION:PVC; Upstairs Rm 209\, 76 S Roscoe Blvd\, Ponte Vedra\, FL\, 32082
ORGANIZER;CN="Marg Farnsworth":MAILTO:mfarns934@gmail.com
END:VEVENT
BEGIN:VEVENT
DTSTART;TZID=America/New_York:20220405T163000
DTEND;TZID=America/New_York:20220405T183000
DTSTAMP:20260419T201525
CREATED:20220113T155023Z
LAST-MODIFIED:20220711T191739Z
UID:10009858-1649176200-1649183400@pontevedra.church
SUMMARY:Grief Share
DESCRIPTION:Have you lost a loved one?  Grief is real and a very deep emotion.  We\ngrieve what we had as well as the future we will not have.  Grief is a\nprocess that takes time.  Friends often do not understand and quickly give\nup trying. \nCome and join our 13-week recovery support group at Ponte Vedra Church where we do understand and can help you turn your mourning into joy\nthrough a very difficult journey.
URL:https://pontevedra.church/event/grief-share/2022-04-05/
LOCATION:PVC; Upstairs Rm 209\, 76 S Roscoe Blvd\, Ponte Vedra\, FL\, 32082
ORGANIZER;CN="Marg Farnsworth":MAILTO:mfarns934@gmail.com
END:VEVENT
BEGIN:VEVENT
DTSTART;TZID=America/New_York:20220329T163000
DTEND;TZID=America/New_York:20220329T183000
DTSTAMP:20260419T201525
CREATED:20220113T155023Z
LAST-MODIFIED:20220711T191739Z
UID:10009857-1648571400-1648578600@pontevedra.church
SUMMARY:Grief Share
DESCRIPTION:Have you lost a loved one?  Grief is real and a very deep emotion.  We\ngrieve what we had as well as the future we will not have.  Grief is a\nprocess that takes time.  Friends often do not understand and quickly give\nup trying. \nCome and join our 13-week recovery support group at Ponte Vedra Church where we do understand and can help you turn your mourning into joy\nthrough a very difficult journey.
URL:https://pontevedra.church/event/grief-share/2022-03-29/
LOCATION:PVC; Upstairs Rm 209\, 76 S Roscoe Blvd\, Ponte Vedra\, FL\, 32082
ORGANIZER;CN="Marg Farnsworth":MAILTO:mfarns934@gmail.com
END:VEVENT
BEGIN:VEVENT
DTSTART;TZID=America/New_York:20220322T163000
DTEND;TZID=America/New_York:20220322T183000
DTSTAMP:20260419T201525
CREATED:20220113T155023Z
LAST-MODIFIED:20220711T191739Z
UID:10009856-1647966600-1647973800@pontevedra.church
SUMMARY:Grief Share
DESCRIPTION:Have you lost a loved one?  Grief is real and a very deep emotion.  We\ngrieve what we had as well as the future we will not have.  Grief is a\nprocess that takes time.  Friends often do not understand and quickly give\nup trying. \nCome and join our 13-week recovery support group at Ponte Vedra Church where we do understand and can help you turn your mourning into joy\nthrough a very difficult journey.
URL:https://pontevedra.church/event/grief-share/2022-03-22/
LOCATION:PVC; Upstairs Rm 209\, 76 S Roscoe Blvd\, Ponte Vedra\, FL\, 32082
ORGANIZER;CN="Marg Farnsworth":MAILTO:mfarns934@gmail.com
END:VEVENT
BEGIN:VEVENT
DTSTART;TZID=America/New_York:20220315T163000
DTEND;TZID=America/New_York:20220315T183000
DTSTAMP:20260419T201525
CREATED:20220113T155023Z
LAST-MODIFIED:20220711T191739Z
UID:10009855-1647361800-1647369000@pontevedra.church
SUMMARY:Grief Share
DESCRIPTION:Have you lost a loved one?  Grief is real and a very deep emotion.  We\ngrieve what we had as well as the future we will not have.  Grief is a\nprocess that takes time.  Friends often do not understand and quickly give\nup trying. \nCome and join our 13-week recovery support group at Ponte Vedra Church where we do understand and can help you turn your mourning into joy\nthrough a very difficult journey.
URL:https://pontevedra.church/event/grief-share/2022-03-15/
LOCATION:PVC; Upstairs Rm 209\, 76 S Roscoe Blvd\, Ponte Vedra\, FL\, 32082
ORGANIZER;CN="Marg Farnsworth":MAILTO:mfarns934@gmail.com
END:VEVENT
BEGIN:VEVENT
DTSTART;TZID=America/New_York:20220308T163000
DTEND;TZID=America/New_York:20220308T183000
DTSTAMP:20260419T201525
CREATED:20220113T155023Z
LAST-MODIFIED:20220711T191739Z
UID:10009854-1646757000-1646764200@pontevedra.church
SUMMARY:Grief Share
DESCRIPTION:Have you lost a loved one?  Grief is real and a very deep emotion.  We\ngrieve what we had as well as the future we will not have.  Grief is a\nprocess that takes time.  Friends often do not understand and quickly give\nup trying. \nCome and join our 13-week recovery support group at Ponte Vedra Church where we do understand and can help you turn your mourning into joy\nthrough a very difficult journey.
URL:https://pontevedra.church/event/grief-share/2022-03-08/
LOCATION:PVC; Upstairs Rm 209\, 76 S Roscoe Blvd\, Ponte Vedra\, FL\, 32082
ORGANIZER;CN="Marg Farnsworth":MAILTO:mfarns934@gmail.com
END:VEVENT
BEGIN:VEVENT
DTSTART;TZID=America/New_York:20220301T163000
DTEND;TZID=America/New_York:20220301T183000
DTSTAMP:20260419T201525
CREATED:20220113T155023Z
LAST-MODIFIED:20220711T191739Z
UID:10009853-1646152200-1646159400@pontevedra.church
SUMMARY:Grief Share
DESCRIPTION:Have you lost a loved one?  Grief is real and a very deep emotion.  We\ngrieve what we had as well as the future we will not have.  Grief is a\nprocess that takes time.  Friends often do not understand and quickly give\nup trying. \nCome and join our 13-week recovery support group at Ponte Vedra Church where we do understand and can help you turn your mourning into joy\nthrough a very difficult journey.
URL:https://pontevedra.church/event/grief-share/2022-03-01/
LOCATION:PVC; Upstairs Rm 209\, 76 S Roscoe Blvd\, Ponte Vedra\, FL\, 32082
ORGANIZER;CN="Marg Farnsworth":MAILTO:mfarns934@gmail.com
END:VEVENT
BEGIN:VEVENT
DTSTART;TZID=America/New_York:20220222T163000
DTEND;TZID=America/New_York:20220222T183000
DTSTAMP:20260419T201525
CREATED:20220113T155023Z
LAST-MODIFIED:20220711T191739Z
UID:10009852-1645547400-1645554600@pontevedra.church
SUMMARY:Grief Share
DESCRIPTION:Have you lost a loved one?  Grief is real and a very deep emotion.  We\ngrieve what we had as well as the future we will not have.  Grief is a\nprocess that takes time.  Friends often do not understand and quickly give\nup trying. \nCome and join our 13-week recovery support group at Ponte Vedra Church where we do understand and can help you turn your mourning into joy\nthrough a very difficult journey.
URL:https://pontevedra.church/event/grief-share/2022-02-22/
LOCATION:PVC; Upstairs Rm 209\, 76 S Roscoe Blvd\, Ponte Vedra\, FL\, 32082
ORGANIZER;CN="Marg Farnsworth":MAILTO:mfarns934@gmail.com
END:VEVENT
BEGIN:VEVENT
DTSTART;TZID=America/New_York:20220215T163000
DTEND;TZID=America/New_York:20220215T183000
DTSTAMP:20260419T201525
CREATED:20220113T155023Z
LAST-MODIFIED:20220711T191739Z
UID:10009851-1644942600-1644949800@pontevedra.church
SUMMARY:Grief Share
DESCRIPTION:Have you lost a loved one?  Grief is real and a very deep emotion.  We\ngrieve what we had as well as the future we will not have.  Grief is a\nprocess that takes time.  Friends often do not understand and quickly give\nup trying. \nCome and join our 13-week recovery support group at Ponte Vedra Church where we do understand and can help you turn your mourning into joy\nthrough a very difficult journey.
URL:https://pontevedra.church/event/grief-share/2022-02-15/
LOCATION:PVC; Upstairs Rm 209\, 76 S Roscoe Blvd\, Ponte Vedra\, FL\, 32082
ORGANIZER;CN="Marg Farnsworth":MAILTO:mfarns934@gmail.com
END:VEVENT
BEGIN:VEVENT
DTSTART;TZID=America/New_York:20220208T163000
DTEND;TZID=America/New_York:20220208T183000
DTSTAMP:20260419T201525
CREATED:20220113T155023Z
LAST-MODIFIED:20220711T191739Z
UID:10009850-1644337800-1644345000@pontevedra.church
SUMMARY:Grief Share
DESCRIPTION:Have you lost a loved one?  Grief is real and a very deep emotion.  We\ngrieve what we had as well as the future we will not have.  Grief is a\nprocess that takes time.  Friends often do not understand and quickly give\nup trying. \nCome and join our 13-week recovery support group at Ponte Vedra Church where we do understand and can help you turn your mourning into joy\nthrough a very difficult journey.
URL:https://pontevedra.church/event/grief-share/2022-02-08/
LOCATION:PVC; Upstairs Rm 209\, 76 S Roscoe Blvd\, Ponte Vedra\, FL\, 32082
ORGANIZER;CN="Marg Farnsworth":MAILTO:mfarns934@gmail.com
END:VEVENT
BEGIN:VEVENT
DTSTART;TZID=America/New_York:20220201T163000
DTEND;TZID=America/New_York:20220201T183000
DTSTAMP:20260419T201525
CREATED:20220113T155023Z
LAST-MODIFIED:20220711T191739Z
UID:10009849-1643733000-1643740200@pontevedra.church
SUMMARY:Grief Share
DESCRIPTION:Have you lost a loved one?  Grief is real and a very deep emotion.  We\ngrieve what we had as well as the future we will not have.  Grief is a\nprocess that takes time.  Friends often do not understand and quickly give\nup trying. \nCome and join our 13-week recovery support group at Ponte Vedra Church where we do understand and can help you turn your mourning into joy\nthrough a very difficult journey.
URL:https://pontevedra.church/event/grief-share/2022-02-01/
LOCATION:PVC; Upstairs Rm 209\, 76 S Roscoe Blvd\, Ponte Vedra\, FL\, 32082
ORGANIZER;CN="Marg Farnsworth":MAILTO:mfarns934@gmail.com
END:VEVENT
BEGIN:VEVENT
DTSTART;TZID=America/New_York:20220125T163000
DTEND;TZID=America/New_York:20220125T183000
DTSTAMP:20260419T201525
CREATED:20220113T155023Z
LAST-MODIFIED:20220711T191739Z
UID:10009848-1643128200-1643135400@pontevedra.church
SUMMARY:Grief Share
DESCRIPTION:Have you lost a loved one?  Grief is real and a very deep emotion.  We\ngrieve what we had as well as the future we will not have.  Grief is a\nprocess that takes time.  Friends often do not understand and quickly give\nup trying. \nCome and join our 13-week recovery support group at Ponte Vedra Church where we do understand and can help you turn your mourning into joy\nthrough a very difficult journey.
URL:https://pontevedra.church/event/grief-share/2022-01-25/
LOCATION:PVC; Upstairs Rm 209\, 76 S Roscoe Blvd\, Ponte Vedra\, FL\, 32082
ORGANIZER;CN="Marg Farnsworth":MAILTO:mfarns934@gmail.com
END:VEVENT
BEGIN:VEVENT
DTSTART;TZID=America/New_York:20220118T163000
DTEND;TZID=America/New_York:20220118T183000
DTSTAMP:20260419T201525
CREATED:20220113T155023Z
LAST-MODIFIED:20220711T191739Z
UID:10009847-1642523400-1642530600@pontevedra.church
SUMMARY:Grief Share
DESCRIPTION:Have you lost a loved one?  Grief is real and a very deep emotion.  We\ngrieve what we had as well as the future we will not have.  Grief is a\nprocess that takes time.  Friends often do not understand and quickly give\nup trying. \nCome and join our 13-week recovery support group at Ponte Vedra Church where we do understand and can help you turn your mourning into joy\nthrough a very difficult journey.
URL:https://pontevedra.church/event/grief-share/2022-01-18/
LOCATION:PVC; Upstairs Rm 209\, 76 S Roscoe Blvd\, Ponte Vedra\, FL\, 32082
ORGANIZER;CN="Marg Farnsworth":MAILTO:mfarns934@gmail.com
END:VEVENT
BEGIN:VEVENT
DTSTART;TZID=America/New_York:20220111T163000
DTEND;TZID=America/New_York:20220111T183000
DTSTAMP:20260419T201525
CREATED:20220113T155023Z
LAST-MODIFIED:20220711T191739Z
UID:10009846-1641918600-1641925800@pontevedra.church
SUMMARY:Grief Share
DESCRIPTION:Have you lost a loved one?  Grief is real and a very deep emotion.  We\ngrieve what we had as well as the future we will not have.  Grief is a\nprocess that takes time.  Friends often do not understand and quickly give\nup trying. \nCome and join our 13-week recovery support group at Ponte Vedra Church where we do understand and can help you turn your mourning into joy\nthrough a very difficult journey.
URL:https://pontevedra.church/event/grief-share/2022-01-11/
LOCATION:PVC; Upstairs Rm 209\, 76 S Roscoe Blvd\, Ponte Vedra\, FL\, 32082
ORGANIZER;CN="Marg Farnsworth":MAILTO:mfarns934@gmail.com
END:VEVENT
END:VCALENDAR