BEGIN:VCALENDAR
VERSION:2.0
PRODID:-//Ponte Vedra Church - ECPv6.15.20//NONSGML v1.0//EN
CALSCALE:GREGORIAN
METHOD:PUBLISH
X-WR-CALNAME:Ponte Vedra Church
X-ORIGINAL-URL:https://pontevedra.church
X-WR-CALDESC:Events for Ponte Vedra Church
REFRESH-INTERVAL;VALUE=DURATION:PT1H
X-Robots-Tag:noindex
X-PUBLISHED-TTL:PT1H
BEGIN:VTIMEZONE
TZID:America/New_York
BEGIN:DAYLIGHT
TZOFFSETFROM:-0500
TZOFFSETTO:-0400
TZNAME:EDT
DTSTART:20190310T070000
END:DAYLIGHT
BEGIN:STANDARD
TZOFFSETFROM:-0400
TZOFFSETTO:-0500
TZNAME:EST
DTSTART:20191103T060000
END:STANDARD
BEGIN:DAYLIGHT
TZOFFSETFROM:-0500
TZOFFSETTO:-0400
TZNAME:EDT
DTSTART:20200308T070000
END:DAYLIGHT
BEGIN:STANDARD
TZOFFSETFROM:-0400
TZOFFSETTO:-0500
TZNAME:EST
DTSTART:20201101T060000
END:STANDARD
BEGIN:DAYLIGHT
TZOFFSETFROM:-0500
TZOFFSETTO:-0400
TZNAME:EDT
DTSTART:20210314T070000
END:DAYLIGHT
BEGIN:STANDARD
TZOFFSETFROM:-0400
TZOFFSETTO:-0500
TZNAME:EST
DTSTART:20211107T060000
END:STANDARD
BEGIN:DAYLIGHT
TZOFFSETFROM:-0500
TZOFFSETTO:-0400
TZNAME:EDT
DTSTART:20220313T070000
END:DAYLIGHT
BEGIN:STANDARD
TZOFFSETFROM:-0400
TZOFFSETTO:-0500
TZNAME:EST
DTSTART:20221106T060000
END:STANDARD
END:VTIMEZONE
BEGIN:VEVENT
DTSTART;TZID=America/New_York:20210525T183000
DTEND;TZID=America/New_York:20210525T193000
DTSTAMP:20260419T233134
CREATED:20201015T200958Z
LAST-MODIFIED:20201230T183648Z
UID:10011232-1621967400-1621971000@pontevedra.church
SUMMARY:Cub Pack 291 Leadership Meeting
DESCRIPTION:Cub Pack 291 leadership will meet to plan future events and the coming year. All parents are welcome.
URL:https://pontevedra.church/event/cub-pack-291-leadership-meeting/2021-05-25/
LOCATION:PVC; Upstairs Rm 207\, 76 S Roscoe Blvd\, Ponte Vedra\, FL\, 32082\, United States
ORGANIZER;CN="Geoff Flowers":MAILTO:gflowersscouting@gmail.com
END:VEVENT
BEGIN:VEVENT
DTSTART;TZID=America/New_York:20210518T183000
DTEND;TZID=America/New_York:20210518T193000
DTSTAMP:20260419T233134
CREATED:20230201T002109Z
LAST-MODIFIED:20230201T002109Z
UID:10011225-1621362600-1621366200@pontevedra.church
SUMMARY:Cub Den Meetings
DESCRIPTION:Cub Pack 291 will meet with their dens (separated by grade level) to work on badges and achievements.
URL:https://pontevedra.church/event/cub-den-meetings/2021-05-18/
LOCATION:PVC\, 76 S Roscoe Blvd\, Ponte Vedra\, FL\, 32082
ORGANIZER;CN="Geoff Flowers":MAILTO:gflowersscouting@gmail.com
END:VEVENT
BEGIN:VEVENT
DTSTART;TZID=America/New_York:20210511T183000
DTEND;TZID=America/New_York:20210511T193000
DTSTAMP:20260419T233134
CREATED:20201015T200504Z
LAST-MODIFIED:20201230T190029Z
UID:10011218-1620757800-1620761400@pontevedra.church
SUMMARY:Cub Den Meetings
DESCRIPTION:Cub Pack 291 will meet with their dens (separated by grade level) to work on badges and achievements.
URL:https://pontevedra.church/event/cub-den-meetings/2021-05-11/
LOCATION:PVC\, 76 S Roscoe Blvd\, Ponte Vedra\, FL\, 32082
ORGANIZER;CN="Geoff Flowers":MAILTO:gflowersscouting@gmail.com
END:VEVENT
BEGIN:VEVENT
DTSTART;TZID=America/New_York:20210504T183000
DTEND;TZID=America/New_York:20210504T193000
DTSTAMP:20260419T233134
CREATED:20201015T200205Z
LAST-MODIFIED:20201015T200205Z
UID:10011210-1620153000-1620156600@pontevedra.church
SUMMARY:Cub Pack Meeting
DESCRIPTION:Cub Pack 291 will have their monthly pack meeting (all age groups will meet together).
URL:https://pontevedra.church/event/cub-pack-meeting/2021-05-04/
LOCATION:PVC; Sanctuary\, 76 S Roscoe Blvd\, Ponte Vedra\, 32082\, United States
ORGANIZER;CN="Geoff Flowers":MAILTO:gflowersscouting@gmail.com
END:VEVENT
BEGIN:VEVENT
DTSTART;TZID=America/New_York:20210427T183000
DTEND;TZID=America/New_York:20210427T193000
DTSTAMP:20260419T233134
CREATED:20201015T200958Z
LAST-MODIFIED:20201230T183648Z
UID:10011231-1619548200-1619551800@pontevedra.church
SUMMARY:Cub Pack 291 Leadership Meeting
DESCRIPTION:Cub Pack 291 leadership will meet to plan future events and the coming year. All parents are welcome.
URL:https://pontevedra.church/event/cub-pack-291-leadership-meeting/2021-04-27/
LOCATION:PVC; Upstairs Rm 207\, 76 S Roscoe Blvd\, Ponte Vedra\, FL\, 32082\, United States
ORGANIZER;CN="Geoff Flowers":MAILTO:gflowersscouting@gmail.com
END:VEVENT
BEGIN:VEVENT
DTSTART;TZID=America/New_York:20210420T183000
DTEND;TZID=America/New_York:20210420T193000
DTSTAMP:20260419T233134
CREATED:20230201T002109Z
LAST-MODIFIED:20230201T002109Z
UID:10011224-1618943400-1618947000@pontevedra.church
SUMMARY:Cub Den Meetings
DESCRIPTION:Cub Pack 291 will meet with their dens (separated by grade level) to work on badges and achievements.
URL:https://pontevedra.church/event/cub-den-meetings/2021-04-20/
LOCATION:PVC\, 76 S Roscoe Blvd\, Ponte Vedra\, FL\, 32082
ORGANIZER;CN="Geoff Flowers":MAILTO:gflowersscouting@gmail.com
END:VEVENT
BEGIN:VEVENT
DTSTART;TZID=America/New_York:20210413T183000
DTEND;TZID=America/New_York:20210413T193000
DTSTAMP:20260419T233134
CREATED:20201015T200504Z
LAST-MODIFIED:20201230T190029Z
UID:10011217-1618338600-1618342200@pontevedra.church
SUMMARY:Cub Den Meetings
DESCRIPTION:Cub Pack 291 will meet with their dens (separated by grade level) to work on badges and achievements.
URL:https://pontevedra.church/event/cub-den-meetings/2021-04-13/
LOCATION:PVC\, 76 S Roscoe Blvd\, Ponte Vedra\, FL\, 32082
ORGANIZER;CN="Geoff Flowers":MAILTO:gflowersscouting@gmail.com
END:VEVENT
BEGIN:VEVENT
DTSTART;TZID=America/New_York:20210406T183000
DTEND;TZID=America/New_York:20210406T193000
DTSTAMP:20260419T233134
CREATED:20201015T200205Z
LAST-MODIFIED:20201015T200205Z
UID:10011209-1617733800-1617737400@pontevedra.church
SUMMARY:Cub Pack Meeting
DESCRIPTION:Cub Pack 291 will have their monthly pack meeting (all age groups will meet together).
URL:https://pontevedra.church/event/cub-pack-meeting/2021-04-06/
LOCATION:PVC; Sanctuary\, 76 S Roscoe Blvd\, Ponte Vedra\, 32082\, United States
ORGANIZER;CN="Geoff Flowers":MAILTO:gflowersscouting@gmail.com
END:VEVENT
BEGIN:VEVENT
DTSTART;TZID=America/New_York:20210323T183000
DTEND;TZID=America/New_York:20210323T193000
DTSTAMP:20260419T233134
CREATED:20201015T200958Z
LAST-MODIFIED:20201230T183648Z
UID:10011230-1616524200-1616527800@pontevedra.church
SUMMARY:Cub Pack 291 Leadership Meeting
DESCRIPTION:Cub Pack 291 leadership will meet to plan future events and the coming year. All parents are welcome.
URL:https://pontevedra.church/event/cub-pack-291-leadership-meeting/2021-03-23/
LOCATION:PVC; Upstairs Rm 207\, 76 S Roscoe Blvd\, Ponte Vedra\, FL\, 32082\, United States
ORGANIZER;CN="Geoff Flowers":MAILTO:gflowersscouting@gmail.com
END:VEVENT
BEGIN:VEVENT
DTSTART;TZID=America/New_York:20210309T183000
DTEND;TZID=America/New_York:20210309T193000
DTSTAMP:20260419T233134
CREATED:20201015T200504Z
LAST-MODIFIED:20201230T190029Z
UID:10011216-1615314600-1615318200@pontevedra.church
SUMMARY:Cub Den Meetings
DESCRIPTION:Cub Pack 291 will meet with their dens (separated by grade level) to work on badges and achievements.
URL:https://pontevedra.church/event/cub-den-meetings/2021-03-09/
LOCATION:PVC\, 76 S Roscoe Blvd\, Ponte Vedra\, FL\, 32082
ORGANIZER;CN="Geoff Flowers":MAILTO:gflowersscouting@gmail.com
END:VEVENT
BEGIN:VEVENT
DTSTART;TZID=America/New_York:20210302T183000
DTEND;TZID=America/New_York:20210302T193000
DTSTAMP:20260419T233134
CREATED:20201015T200205Z
LAST-MODIFIED:20201015T200205Z
UID:10011208-1614709800-1614713400@pontevedra.church
SUMMARY:Cub Pack Meeting
DESCRIPTION:Cub Pack 291 will have their monthly pack meeting (all age groups will meet together).
URL:https://pontevedra.church/event/cub-pack-meeting/2021-03-02/
LOCATION:PVC; Sanctuary\, 76 S Roscoe Blvd\, Ponte Vedra\, 32082\, United States
ORGANIZER;CN="Geoff Flowers":MAILTO:gflowersscouting@gmail.com
END:VEVENT
BEGIN:VEVENT
DTSTART;TZID=America/New_York:20210223T183000
DTEND;TZID=America/New_York:20210223T193000
DTSTAMP:20260419T233134
CREATED:20201015T200958Z
LAST-MODIFIED:20201230T183648Z
UID:10011229-1614105000-1614108600@pontevedra.church
SUMMARY:Cub Pack 291 Leadership Meeting
DESCRIPTION:Cub Pack 291 leadership will meet to plan future events and the coming year. All parents are welcome.
URL:https://pontevedra.church/event/cub-pack-291-leadership-meeting/2021-02-23/
LOCATION:PVC; Upstairs Rm 207\, 76 S Roscoe Blvd\, Ponte Vedra\, FL\, 32082\, United States
ORGANIZER;CN="Geoff Flowers":MAILTO:gflowersscouting@gmail.com
END:VEVENT
BEGIN:VEVENT
DTSTART;TZID=America/New_York:20210216T183000
DTEND;TZID=America/New_York:20210216T193000
DTSTAMP:20260419T233134
CREATED:20230201T002109Z
LAST-MODIFIED:20230201T002109Z
UID:10011223-1613500200-1613503800@pontevedra.church
SUMMARY:Cub Den Meetings
DESCRIPTION:Cub Pack 291 will meet with their dens (separated by grade level) to work on badges and achievements.
URL:https://pontevedra.church/event/cub-den-meetings/2021-02-16/
LOCATION:PVC\, 76 S Roscoe Blvd\, Ponte Vedra\, FL\, 32082
ORGANIZER;CN="Geoff Flowers":MAILTO:gflowersscouting@gmail.com
END:VEVENT
BEGIN:VEVENT
DTSTART;TZID=America/New_York:20210209T183000
DTEND;TZID=America/New_York:20210209T193000
DTSTAMP:20260419T233134
CREATED:20201015T200504Z
LAST-MODIFIED:20201230T190029Z
UID:10011215-1612895400-1612899000@pontevedra.church
SUMMARY:Cub Den Meetings
DESCRIPTION:Cub Pack 291 will meet with their dens (separated by grade level) to work on badges and achievements.
URL:https://pontevedra.church/event/cub-den-meetings/2021-02-09/
LOCATION:PVC\, 76 S Roscoe Blvd\, Ponte Vedra\, FL\, 32082
ORGANIZER;CN="Geoff Flowers":MAILTO:gflowersscouting@gmail.com
END:VEVENT
BEGIN:VEVENT
DTSTART;TZID=America/New_York:20210202T183000
DTEND;TZID=America/New_York:20210202T193000
DTSTAMP:20260419T233134
CREATED:20201015T200205Z
LAST-MODIFIED:20201015T200205Z
UID:10011207-1612290600-1612294200@pontevedra.church
SUMMARY:Cub Pack Meeting
DESCRIPTION:Cub Pack 291 will have their monthly pack meeting (all age groups will meet together).
URL:https://pontevedra.church/event/cub-pack-meeting/2021-02-02/
LOCATION:PVC; Sanctuary\, 76 S Roscoe Blvd\, Ponte Vedra\, 32082\, United States
ORGANIZER;CN="Geoff Flowers":MAILTO:gflowersscouting@gmail.com
END:VEVENT
BEGIN:VEVENT
DTSTART;TZID=America/New_York:20210126T183000
DTEND;TZID=America/New_York:20210126T193000
DTSTAMP:20260419T233134
CREATED:20201015T200958Z
LAST-MODIFIED:20201230T183648Z
UID:10011228-1611685800-1611689400@pontevedra.church
SUMMARY:Cub Pack 291 Leadership Meeting
DESCRIPTION:Cub Pack 291 leadership will meet to plan future events and the coming year. All parents are welcome.
URL:https://pontevedra.church/event/cub-pack-291-leadership-meeting/2021-01-26/
LOCATION:PVC; Upstairs Rm 207\, 76 S Roscoe Blvd\, Ponte Vedra\, FL\, 32082\, United States
ORGANIZER;CN="Geoff Flowers":MAILTO:gflowersscouting@gmail.com
END:VEVENT
BEGIN:VEVENT
DTSTART;TZID=America/New_York:20210119T183000
DTEND;TZID=America/New_York:20210119T193000
DTSTAMP:20260419T233134
CREATED:20230201T002109Z
LAST-MODIFIED:20230201T002109Z
UID:10011222-1611081000-1611084600@pontevedra.church
SUMMARY:Cub Den Meetings
DESCRIPTION:Cub Pack 291 will meet with their dens (separated by grade level) to work on badges and achievements.
URL:https://pontevedra.church/event/cub-den-meetings/2021-01-19/
LOCATION:PVC\, 76 S Roscoe Blvd\, Ponte Vedra\, FL\, 32082
ORGANIZER;CN="Geoff Flowers":MAILTO:gflowersscouting@gmail.com
END:VEVENT
BEGIN:VEVENT
DTSTART;TZID=America/New_York:20210112T183000
DTEND;TZID=America/New_York:20210112T193000
DTSTAMP:20260419T233134
CREATED:20201015T200504Z
LAST-MODIFIED:20201230T190029Z
UID:10011214-1610476200-1610479800@pontevedra.church
SUMMARY:Cub Den Meetings
DESCRIPTION:Cub Pack 291 will meet with their dens (separated by grade level) to work on badges and achievements.
URL:https://pontevedra.church/event/cub-den-meetings/2021-01-12/
LOCATION:PVC\, 76 S Roscoe Blvd\, Ponte Vedra\, FL\, 32082
ORGANIZER;CN="Geoff Flowers":MAILTO:gflowersscouting@gmail.com
END:VEVENT
BEGIN:VEVENT
DTSTART;TZID=America/New_York:20210105T183000
DTEND;TZID=America/New_York:20210105T193000
DTSTAMP:20260419T233135
CREATED:20201015T200205Z
LAST-MODIFIED:20201015T200205Z
UID:10011206-1609871400-1609875000@pontevedra.church
SUMMARY:Cub Pack Meeting
DESCRIPTION:Cub Pack 291 will have their monthly pack meeting (all age groups will meet together).
URL:https://pontevedra.church/event/cub-pack-meeting/2021-01-05/
LOCATION:PVC; Sanctuary\, 76 S Roscoe Blvd\, Ponte Vedra\, 32082\, United States
ORGANIZER;CN="Geoff Flowers":MAILTO:gflowersscouting@gmail.com
END:VEVENT
BEGIN:VEVENT
DTSTART;TZID=America/New_York:20201215T183000
DTEND;TZID=America/New_York:20201215T193000
DTSTAMP:20260419T233135
CREATED:20230201T002109Z
LAST-MODIFIED:20230201T002109Z
UID:10011221-1608057000-1608060600@pontevedra.church
SUMMARY:Cub Den Meetings
DESCRIPTION:Cub Pack 291 will meet with their dens (separated by grade level) to work on badges and achievements.
URL:https://pontevedra.church/event/cub-den-meetings/2020-12-15/
LOCATION:PVC\, 76 S Roscoe Blvd\, Ponte Vedra\, FL\, 32082
ORGANIZER;CN="Geoff Flowers":MAILTO:gflowersscouting@gmail.com
END:VEVENT
BEGIN:VEVENT
DTSTART;TZID=America/New_York:20201208T183000
DTEND;TZID=America/New_York:20201208T193000
DTSTAMP:20260419T233135
CREATED:20201015T200504Z
LAST-MODIFIED:20201230T190029Z
UID:10011213-1607452200-1607455800@pontevedra.church
SUMMARY:Cub Den Meetings
DESCRIPTION:Cub Pack 291 will meet with their dens (separated by grade level) to work on badges and achievements.
URL:https://pontevedra.church/event/cub-den-meetings/2020-12-08/
LOCATION:PVC\, 76 S Roscoe Blvd\, Ponte Vedra\, FL\, 32082
ORGANIZER;CN="Geoff Flowers":MAILTO:gflowersscouting@gmail.com
END:VEVENT
BEGIN:VEVENT
DTSTART;TZID=America/New_York:20201201T183000
DTEND;TZID=America/New_York:20201201T193000
DTSTAMP:20260419T233135
CREATED:20201015T200205Z
LAST-MODIFIED:20201015T200205Z
UID:10011205-1606847400-1606851000@pontevedra.church
SUMMARY:Cub Pack Meeting
DESCRIPTION:Cub Pack 291 will have their monthly pack meeting (all age groups will meet together).
URL:https://pontevedra.church/event/cub-pack-meeting/2020-12-01/
LOCATION:PVC; Sanctuary\, 76 S Roscoe Blvd\, Ponte Vedra\, 32082\, United States
ORGANIZER;CN="Geoff Flowers":MAILTO:gflowersscouting@gmail.com
END:VEVENT
BEGIN:VEVENT
DTSTART;TZID=America/New_York:20201124T183000
DTEND;TZID=America/New_York:20201124T193000
DTSTAMP:20260419T233135
CREATED:20201015T200958Z
LAST-MODIFIED:20201230T183648Z
UID:10011227-1606242600-1606246200@pontevedra.church
SUMMARY:Cub Pack 291 Leadership Meeting
DESCRIPTION:Cub Pack 291 leadership will meet to plan future events and the coming year. All parents are welcome.
URL:https://pontevedra.church/event/cub-pack-291-leadership-meeting/2020-11-24/
LOCATION:PVC; Upstairs Rm 207\, 76 S Roscoe Blvd\, Ponte Vedra\, FL\, 32082\, United States
ORGANIZER;CN="Geoff Flowers":MAILTO:gflowersscouting@gmail.com
END:VEVENT
BEGIN:VEVENT
DTSTART;TZID=America/New_York:20201117T183000
DTEND;TZID=America/New_York:20201117T193000
DTSTAMP:20260419T233135
CREATED:20230201T002109Z
LAST-MODIFIED:20230201T002109Z
UID:10011220-1605637800-1605641400@pontevedra.church
SUMMARY:Cub Den Meetings
DESCRIPTION:Cub Pack 291 will meet with their dens (separated by grade level) to work on badges and achievements.
URL:https://pontevedra.church/event/cub-den-meetings/2020-11-17/
LOCATION:PVC\, 76 S Roscoe Blvd\, Ponte Vedra\, FL\, 32082
ORGANIZER;CN="Geoff Flowers":MAILTO:gflowersscouting@gmail.com
END:VEVENT
BEGIN:VEVENT
DTSTART;TZID=America/New_York:20201110T183000
DTEND;TZID=America/New_York:20201110T193000
DTSTAMP:20260419T233135
CREATED:20201015T200504Z
LAST-MODIFIED:20201230T190029Z
UID:10011212-1605033000-1605036600@pontevedra.church
SUMMARY:Cub Den Meetings
DESCRIPTION:Cub Pack 291 will meet with their dens (separated by grade level) to work on badges and achievements.
URL:https://pontevedra.church/event/cub-den-meetings/2020-11-10/
LOCATION:PVC\, 76 S Roscoe Blvd\, Ponte Vedra\, FL\, 32082
ORGANIZER;CN="Geoff Flowers":MAILTO:gflowersscouting@gmail.com
END:VEVENT
BEGIN:VEVENT
DTSTART;TZID=America/New_York:20201103T183000
DTEND;TZID=America/New_York:20201103T193000
DTSTAMP:20260419T233135
CREATED:20201015T200205Z
LAST-MODIFIED:20201015T200205Z
UID:10011204-1604428200-1604431800@pontevedra.church
SUMMARY:Cub Pack Meeting
DESCRIPTION:Cub Pack 291 will have their monthly pack meeting (all age groups will meet together).
URL:https://pontevedra.church/event/cub-pack-meeting/2020-11-03/
LOCATION:PVC; Sanctuary\, 76 S Roscoe Blvd\, Ponte Vedra\, 32082\, United States
ORGANIZER;CN="Geoff Flowers":MAILTO:gflowersscouting@gmail.com
END:VEVENT
BEGIN:VEVENT
DTSTART;TZID=America/New_York:20201027T183000
DTEND;TZID=America/New_York:20201027T193000
DTSTAMP:20260419T233135
CREATED:20201015T200958Z
LAST-MODIFIED:20201230T183648Z
UID:10011226-1603823400-1603827000@pontevedra.church
SUMMARY:Cub Pack 291 Leadership Meeting
DESCRIPTION:Cub Pack 291 leadership will meet to plan future events and the coming year. All parents are welcome.
URL:https://pontevedra.church/event/cub-pack-291-leadership-meeting/2020-10-27/
LOCATION:PVC; Upstairs Rm 207\, 76 S Roscoe Blvd\, Ponte Vedra\, FL\, 32082\, United States
ORGANIZER;CN="Geoff Flowers":MAILTO:gflowersscouting@gmail.com
END:VEVENT
BEGIN:VEVENT
DTSTART;TZID=America/New_York:20201020T183000
DTEND;TZID=America/New_York:20201020T193000
DTSTAMP:20260419T233135
CREATED:20230201T002109Z
LAST-MODIFIED:20230201T002109Z
UID:10011219-1603218600-1603222200@pontevedra.church
SUMMARY:Cub Den Meetings
DESCRIPTION:Cub Pack 291 will meet with their dens (separated by grade level) to work on badges and achievements.
URL:https://pontevedra.church/event/cub-den-meetings/2020-10-20/
LOCATION:PVC\, 76 S Roscoe Blvd\, Ponte Vedra\, FL\, 32082
ORGANIZER;CN="Geoff Flowers":MAILTO:gflowersscouting@gmail.com
END:VEVENT
BEGIN:VEVENT
DTSTART;TZID=America/New_York:20201013T183000
DTEND;TZID=America/New_York:20201013T193000
DTSTAMP:20260419T233135
CREATED:20201015T200504Z
LAST-MODIFIED:20201230T190029Z
UID:10011211-1602613800-1602617400@pontevedra.church
SUMMARY:Cub Den Meetings
DESCRIPTION:Cub Pack 291 will meet with their dens (separated by grade level) to work on badges and achievements.
URL:https://pontevedra.church/event/cub-den-meetings/2020-10-13/
LOCATION:PVC\, 76 S Roscoe Blvd\, Ponte Vedra\, FL\, 32082
ORGANIZER;CN="Geoff Flowers":MAILTO:gflowersscouting@gmail.com
END:VEVENT
BEGIN:VEVENT
DTSTART;TZID=America/New_York:20201006T183000
DTEND;TZID=America/New_York:20201006T193000
DTSTAMP:20260419T233135
CREATED:20201015T200205Z
LAST-MODIFIED:20201015T200205Z
UID:10011203-1602009000-1602012600@pontevedra.church
SUMMARY:Cub Pack Meeting
DESCRIPTION:Cub Pack 291 will have their monthly pack meeting (all age groups will meet together).
URL:https://pontevedra.church/event/cub-pack-meeting/2020-10-06/
LOCATION:PVC; Sanctuary\, 76 S Roscoe Blvd\, Ponte Vedra\, 32082\, United States
ORGANIZER;CN="Geoff Flowers":MAILTO:gflowersscouting@gmail.com
END:VEVENT
END:VCALENDAR