BEGIN:VCALENDAR
VERSION:2.0
PRODID:-//Ponte Vedra Church - ECPv6.15.20//NONSGML v1.0//EN
CALSCALE:GREGORIAN
METHOD:PUBLISH
X-ORIGINAL-URL:https://pontevedra.church
X-WR-CALDESC:Events for Ponte Vedra Church
REFRESH-INTERVAL;VALUE=DURATION:PT1H
X-Robots-Tag:noindex
X-PUBLISHED-TTL:PT1H
BEGIN:VTIMEZONE
TZID:America/New_York
BEGIN:DAYLIGHT
TZOFFSETFROM:-0500
TZOFFSETTO:-0400
TZNAME:EDT
DTSTART:20260308T070000
END:DAYLIGHT
BEGIN:STANDARD
TZOFFSETFROM:-0400
TZOFFSETTO:-0500
TZNAME:EST
DTSTART:20261101T060000
END:STANDARD
BEGIN:DAYLIGHT
TZOFFSETFROM:-0500
TZOFFSETTO:-0400
TZNAME:EDT
DTSTART:20270314T070000
END:DAYLIGHT
BEGIN:STANDARD
TZOFFSETFROM:-0400
TZOFFSETTO:-0500
TZNAME:EST
DTSTART:20271107T060000
END:STANDARD
BEGIN:DAYLIGHT
TZOFFSETFROM:-0500
TZOFFSETTO:-0400
TZNAME:EDT
DTSTART:20280312T070000
END:DAYLIGHT
BEGIN:STANDARD
TZOFFSETFROM:-0400
TZOFFSETTO:-0500
TZNAME:EST
DTSTART:20281105T060000
END:STANDARD
END:VTIMEZONE
BEGIN:VEVENT
DTSTART;TZID=America/New_York:20270602T183000
DTEND;TZID=America/New_York:20270602T193000
DTSTAMP:20260420T062350
CREATED:20220726T214513Z
LAST-MODIFIED:20250923T170128Z
UID:10021225-1811961000-1811964600@pontevedra.church
SUMMARY:YCAM
DESCRIPTION:Youth Creative Arts Ministry is an upbeat worship band led by Scott Tinsley. This group is open to anyone 7th-12th grade. For more information\, contact Scott Tinsley at media@pontevedra.church
URL:https://pontevedra.church/event/ycam-2/2027-06-02/
LOCATION:PVC\, 76 S Roscoe Blvd\, Ponte Vedra\, FL\, 32082
CATEGORIES:Youth
ORGANIZER;CN="Scott Tinsley":MAILTO:media@pontevedra.church
END:VEVENT
BEGIN:VEVENT
DTSTART;TZID=America/New_York:20270609T183000
DTEND;TZID=America/New_York:20270609T193000
DTSTAMP:20260420T062350
CREATED:20220726T214513Z
LAST-MODIFIED:20250923T170128Z
UID:10021226-1812565800-1812569400@pontevedra.church
SUMMARY:YCAM
DESCRIPTION:Youth Creative Arts Ministry is an upbeat worship band led by Scott Tinsley. This group is open to anyone 7th-12th grade. For more information\, contact Scott Tinsley at media@pontevedra.church
URL:https://pontevedra.church/event/ycam-2/2027-06-09/
LOCATION:PVC\, 76 S Roscoe Blvd\, Ponte Vedra\, FL\, 32082
CATEGORIES:Youth
ORGANIZER;CN="Scott Tinsley":MAILTO:media@pontevedra.church
END:VEVENT
BEGIN:VEVENT
DTSTART;TZID=America/New_York:20270616T183000
DTEND;TZID=America/New_York:20270616T193000
DTSTAMP:20260420T062350
CREATED:20220726T214513Z
LAST-MODIFIED:20250923T170128Z
UID:10021227-1813170600-1813174200@pontevedra.church
SUMMARY:YCAM
DESCRIPTION:Youth Creative Arts Ministry is an upbeat worship band led by Scott Tinsley. This group is open to anyone 7th-12th grade. For more information\, contact Scott Tinsley at media@pontevedra.church
URL:https://pontevedra.church/event/ycam-2/2027-06-16/
LOCATION:PVC\, 76 S Roscoe Blvd\, Ponte Vedra\, FL\, 32082
CATEGORIES:Youth
ORGANIZER;CN="Scott Tinsley":MAILTO:media@pontevedra.church
END:VEVENT
BEGIN:VEVENT
DTSTART;TZID=America/New_York:20270623T183000
DTEND;TZID=America/New_York:20270623T193000
DTSTAMP:20260420T062350
CREATED:20220726T214513Z
LAST-MODIFIED:20250923T170128Z
UID:10021228-1813775400-1813779000@pontevedra.church
SUMMARY:YCAM
DESCRIPTION:Youth Creative Arts Ministry is an upbeat worship band led by Scott Tinsley. This group is open to anyone 7th-12th grade. For more information\, contact Scott Tinsley at media@pontevedra.church
URL:https://pontevedra.church/event/ycam-2/2027-06-23/
LOCATION:PVC\, 76 S Roscoe Blvd\, Ponte Vedra\, FL\, 32082
CATEGORIES:Youth
ORGANIZER;CN="Scott Tinsley":MAILTO:media@pontevedra.church
END:VEVENT
BEGIN:VEVENT
DTSTART;TZID=America/New_York:20270630T183000
DTEND;TZID=America/New_York:20270630T193000
DTSTAMP:20260420T062350
CREATED:20220726T214513Z
LAST-MODIFIED:20250923T170128Z
UID:10021229-1814380200-1814383800@pontevedra.church
SUMMARY:YCAM
DESCRIPTION:Youth Creative Arts Ministry is an upbeat worship band led by Scott Tinsley. This group is open to anyone 7th-12th grade. For more information\, contact Scott Tinsley at media@pontevedra.church
URL:https://pontevedra.church/event/ycam-2/2027-06-30/
LOCATION:PVC\, 76 S Roscoe Blvd\, Ponte Vedra\, FL\, 32082
CATEGORIES:Youth
ORGANIZER;CN="Scott Tinsley":MAILTO:media@pontevedra.church
END:VEVENT
END:VCALENDAR