BEGIN:VCALENDAR
VERSION:2.0
PRODID:-//Ponte Vedra Church - ECPv6.15.20//NONSGML v1.0//EN
CALSCALE:GREGORIAN
METHOD:PUBLISH
X-WR-CALNAME:Ponte Vedra Church
X-ORIGINAL-URL:https://pontevedra.church
X-WR-CALDESC:Events for Ponte Vedra Church
REFRESH-INTERVAL;VALUE=DURATION:PT1H
X-Robots-Tag:noindex
X-PUBLISHED-TTL:PT1H
BEGIN:VTIMEZONE
TZID:America/New_York
BEGIN:DAYLIGHT
TZOFFSETFROM:-0500
TZOFFSETTO:-0400
TZNAME:EDT
DTSTART:20230312T070000
END:DAYLIGHT
BEGIN:STANDARD
TZOFFSETFROM:-0400
TZOFFSETTO:-0500
TZNAME:EST
DTSTART:20231105T060000
END:STANDARD
BEGIN:DAYLIGHT
TZOFFSETFROM:-0500
TZOFFSETTO:-0400
TZNAME:EDT
DTSTART:20240310T070000
END:DAYLIGHT
BEGIN:STANDARD
TZOFFSETFROM:-0400
TZOFFSETTO:-0500
TZNAME:EST
DTSTART:20241103T060000
END:STANDARD
BEGIN:DAYLIGHT
TZOFFSETFROM:-0500
TZOFFSETTO:-0400
TZNAME:EDT
DTSTART:20250309T070000
END:DAYLIGHT
BEGIN:STANDARD
TZOFFSETFROM:-0400
TZOFFSETTO:-0500
TZNAME:EST
DTSTART:20251102T060000
END:STANDARD
END:VTIMEZONE
BEGIN:VEVENT
DTSTART;TZID=America/New_York:20241105T183000
DTEND;TZID=America/New_York:20241105T193000
DTSTAMP:20260419T154650
CREATED:20220921T233214Z
LAST-MODIFIED:20240826T180526Z
UID:10019363-1730831400-1730835000@pontevedra.church
SUMMARY:Worship Band Practice
DESCRIPTION:
URL:https://pontevedra.church/event/worship-band-practice/2024-11-05/
LOCATION:PVC; Upstairs\, 76 S Roscoe Blvd\, Ponte Vedra\, 32082\, United States
ORGANIZER;CN="Scott Tinsley":MAILTO:media@pontevedra.church
END:VEVENT
BEGIN:VEVENT
DTSTART;TZID=America/New_York:20241106T183000
DTEND;TZID=America/New_York:20241106T193000
DTSTAMP:20260419T154650
CREATED:20220726T214513Z
LAST-MODIFIED:20250923T170128Z
UID:10021091-1730917800-1730921400@pontevedra.church
SUMMARY:YCAM
DESCRIPTION:Youth Creative Arts Ministry is an upbeat worship band led by Scott Tinsley. This group is open to anyone 7th-12th grade. For more information\, contact Scott Tinsley at media@pontevedra.church
URL:https://pontevedra.church/event/ycam-2/2024-11-06/
LOCATION:PVC\, 76 S Roscoe Blvd\, Ponte Vedra\, FL\, 32082
CATEGORIES:Youth
ORGANIZER;CN="Scott Tinsley":MAILTO:media@pontevedra.church
END:VEVENT
BEGIN:VEVENT
DTSTART;TZID=America/New_York:20241107T190000
DTEND;TZID=America/New_York:20241107T200000
DTSTAMP:20260419T154650
CREATED:20220726T215921Z
LAST-MODIFIED:20220809T173916Z
UID:10012261-1731006000-1731009600@pontevedra.church
SUMMARY:Chancel Choir Rehearsal
DESCRIPTION:Our Chancel Choir meets every Thursday evening for rehearsal. We are always open to new members\, regardless of your vocal experience. Whether you’re a trained vocalist or someone who just loves to sing\, we would be thrilled to have you join us.
URL:https://pontevedra.church/event/chancel-choir-rehearsal/2024-11-07/
LOCATION:PVC; Upstairs\, 76 S Roscoe Blvd\, Ponte Vedra\, 32082\, United States
CATEGORIES:Meeting,Music
ORGANIZER;CN="Scott Tinsley":MAILTO:media@pontevedra.church
END:VEVENT
BEGIN:VEVENT
DTSTART;TZID=America/New_York:20241112T183000
DTEND;TZID=America/New_York:20241112T193000
DTSTAMP:20260419T154650
CREATED:20220921T233214Z
LAST-MODIFIED:20240826T180526Z
UID:10015156-1731436200-1731439800@pontevedra.church
SUMMARY:Worship Band Practice
DESCRIPTION:
URL:https://pontevedra.church/event/worship-band-practice/2024-11-12/
LOCATION:PVC; Upstairs\, 76 S Roscoe Blvd\, Ponte Vedra\, 32082\, United States
ORGANIZER;CN="Scott Tinsley":MAILTO:media@pontevedra.church
END:VEVENT
BEGIN:VEVENT
DTSTART;TZID=America/New_York:20241113T183000
DTEND;TZID=America/New_York:20241113T193000
DTSTAMP:20260419T154650
CREATED:20220726T214513Z
LAST-MODIFIED:20250923T170128Z
UID:10021092-1731522600-1731526200@pontevedra.church
SUMMARY:YCAM
DESCRIPTION:Youth Creative Arts Ministry is an upbeat worship band led by Scott Tinsley. This group is open to anyone 7th-12th grade. For more information\, contact Scott Tinsley at media@pontevedra.church
URL:https://pontevedra.church/event/ycam-2/2024-11-13/
LOCATION:PVC\, 76 S Roscoe Blvd\, Ponte Vedra\, FL\, 32082
CATEGORIES:Youth
ORGANIZER;CN="Scott Tinsley":MAILTO:media@pontevedra.church
END:VEVENT
BEGIN:VEVENT
DTSTART;TZID=America/New_York:20241114T190000
DTEND;TZID=America/New_York:20241114T200000
DTSTAMP:20260419T154650
CREATED:20220726T215921Z
LAST-MODIFIED:20220809T173916Z
UID:10012262-1731610800-1731614400@pontevedra.church
SUMMARY:Chancel Choir Rehearsal
DESCRIPTION:Our Chancel Choir meets every Thursday evening for rehearsal. We are always open to new members\, regardless of your vocal experience. Whether you’re a trained vocalist or someone who just loves to sing\, we would be thrilled to have you join us.
URL:https://pontevedra.church/event/chancel-choir-rehearsal/2024-11-14/
LOCATION:PVC; Upstairs\, 76 S Roscoe Blvd\, Ponte Vedra\, 32082\, United States
CATEGORIES:Meeting,Music
ORGANIZER;CN="Scott Tinsley":MAILTO:media@pontevedra.church
END:VEVENT
BEGIN:VEVENT
DTSTART;TZID=America/New_York:20241119T183000
DTEND;TZID=America/New_York:20241119T193000
DTSTAMP:20260419T154650
CREATED:20220921T233214Z
LAST-MODIFIED:20240826T180526Z
UID:10019364-1732041000-1732044600@pontevedra.church
SUMMARY:Worship Band Practice
DESCRIPTION:
URL:https://pontevedra.church/event/worship-band-practice/2024-11-19/
LOCATION:PVC; Upstairs\, 76 S Roscoe Blvd\, Ponte Vedra\, 32082\, United States
ORGANIZER;CN="Scott Tinsley":MAILTO:media@pontevedra.church
END:VEVENT
BEGIN:VEVENT
DTSTART;TZID=America/New_York:20241120T183000
DTEND;TZID=America/New_York:20241120T193000
DTSTAMP:20260419T154650
CREATED:20220726T214513Z
LAST-MODIFIED:20250923T170128Z
UID:10021093-1732127400-1732131000@pontevedra.church
SUMMARY:YCAM
DESCRIPTION:Youth Creative Arts Ministry is an upbeat worship band led by Scott Tinsley. This group is open to anyone 7th-12th grade. For more information\, contact Scott Tinsley at media@pontevedra.church
URL:https://pontevedra.church/event/ycam-2/2024-11-20/
LOCATION:PVC\, 76 S Roscoe Blvd\, Ponte Vedra\, FL\, 32082
CATEGORIES:Youth
ORGANIZER;CN="Scott Tinsley":MAILTO:media@pontevedra.church
END:VEVENT
BEGIN:VEVENT
DTSTART;TZID=America/New_York:20241121T190000
DTEND;TZID=America/New_York:20241121T200000
DTSTAMP:20260419T154650
CREATED:20220726T215921Z
LAST-MODIFIED:20220809T173916Z
UID:10012263-1732215600-1732219200@pontevedra.church
SUMMARY:Chancel Choir Rehearsal
DESCRIPTION:Our Chancel Choir meets every Thursday evening for rehearsal. We are always open to new members\, regardless of your vocal experience. Whether you’re a trained vocalist or someone who just loves to sing\, we would be thrilled to have you join us.
URL:https://pontevedra.church/event/chancel-choir-rehearsal/2024-11-21/
LOCATION:PVC; Upstairs\, 76 S Roscoe Blvd\, Ponte Vedra\, 32082\, United States
CATEGORIES:Meeting,Music
ORGANIZER;CN="Scott Tinsley":MAILTO:media@pontevedra.church
END:VEVENT
BEGIN:VEVENT
DTSTART;TZID=America/New_York:20241126T183000
DTEND;TZID=America/New_York:20241126T193000
DTSTAMP:20260419T154650
CREATED:20220921T233214Z
LAST-MODIFIED:20240826T180526Z
UID:10015157-1732645800-1732649400@pontevedra.church
SUMMARY:Worship Band Practice
DESCRIPTION:
URL:https://pontevedra.church/event/worship-band-practice/2024-11-26/
LOCATION:PVC; Upstairs\, 76 S Roscoe Blvd\, Ponte Vedra\, 32082\, United States
ORGANIZER;CN="Scott Tinsley":MAILTO:media@pontevedra.church
END:VEVENT
BEGIN:VEVENT
DTSTART;TZID=America/New_York:20241127T183000
DTEND;TZID=America/New_York:20241127T193000
DTSTAMP:20260419T154650
CREATED:20220726T214513Z
LAST-MODIFIED:20250923T170128Z
UID:10021094-1732732200-1732735800@pontevedra.church
SUMMARY:YCAM
DESCRIPTION:Youth Creative Arts Ministry is an upbeat worship band led by Scott Tinsley. This group is open to anyone 7th-12th grade. For more information\, contact Scott Tinsley at media@pontevedra.church
URL:https://pontevedra.church/event/ycam-2/2024-11-27/
LOCATION:PVC\, 76 S Roscoe Blvd\, Ponte Vedra\, FL\, 32082
CATEGORIES:Youth
ORGANIZER;CN="Scott Tinsley":MAILTO:media@pontevedra.church
END:VEVENT
BEGIN:VEVENT
DTSTART;TZID=America/New_York:20241128T190000
DTEND;TZID=America/New_York:20241128T200000
DTSTAMP:20260419T154650
CREATED:20220726T215921Z
LAST-MODIFIED:20220809T173916Z
UID:10012264-1732820400-1732824000@pontevedra.church
SUMMARY:Chancel Choir Rehearsal
DESCRIPTION:Our Chancel Choir meets every Thursday evening for rehearsal. We are always open to new members\, regardless of your vocal experience. Whether you’re a trained vocalist or someone who just loves to sing\, we would be thrilled to have you join us.
URL:https://pontevedra.church/event/chancel-choir-rehearsal/2024-11-28/
LOCATION:PVC; Upstairs\, 76 S Roscoe Blvd\, Ponte Vedra\, 32082\, United States
CATEGORIES:Meeting,Music
ORGANIZER;CN="Scott Tinsley":MAILTO:media@pontevedra.church
END:VEVENT
END:VCALENDAR