BEGIN:VCALENDAR
VERSION:2.0
PRODID:-//Ponte Vedra Church - ECPv6.15.20//NONSGML v1.0//EN
CALSCALE:GREGORIAN
METHOD:PUBLISH
X-WR-CALNAME:Ponte Vedra Church
X-ORIGINAL-URL:https://pontevedra.church
X-WR-CALDESC:Events for Ponte Vedra Church
REFRESH-INTERVAL;VALUE=DURATION:PT1H
X-Robots-Tag:noindex
X-PUBLISHED-TTL:PT1H
BEGIN:VTIMEZONE
TZID:America/New_York
BEGIN:DAYLIGHT
TZOFFSETFROM:-0500
TZOFFSETTO:-0400
TZNAME:EDT
DTSTART:20230312T070000
END:DAYLIGHT
BEGIN:STANDARD
TZOFFSETFROM:-0400
TZOFFSETTO:-0500
TZNAME:EST
DTSTART:20231105T060000
END:STANDARD
BEGIN:DAYLIGHT
TZOFFSETFROM:-0500
TZOFFSETTO:-0400
TZNAME:EDT
DTSTART:20240310T070000
END:DAYLIGHT
BEGIN:STANDARD
TZOFFSETFROM:-0400
TZOFFSETTO:-0500
TZNAME:EST
DTSTART:20241103T060000
END:STANDARD
BEGIN:DAYLIGHT
TZOFFSETFROM:-0500
TZOFFSETTO:-0400
TZNAME:EDT
DTSTART:20250309T070000
END:DAYLIGHT
BEGIN:STANDARD
TZOFFSETFROM:-0400
TZOFFSETTO:-0500
TZNAME:EST
DTSTART:20251102T060000
END:STANDARD
END:VTIMEZONE
BEGIN:VEVENT
DTSTART;TZID=America/New_York:20240702T183000
DTEND;TZID=America/New_York:20240702T193000
DTSTAMP:20260419T222300
CREATED:20220921T233214Z
LAST-MODIFIED:20240826T180526Z
UID:10019354-1719945000-1719948600@pontevedra.church
SUMMARY:Worship Band Practice
DESCRIPTION:
URL:https://pontevedra.church/event/worship-band-practice/2024-07-02/
LOCATION:PVC; Upstairs\, 76 S Roscoe Blvd\, Ponte Vedra\, 32082\, United States
ORGANIZER;CN="Scott Tinsley":MAILTO:media@pontevedra.church
END:VEVENT
BEGIN:VEVENT
DTSTART;TZID=America/New_York:20240704T190000
DTEND;TZID=America/New_York:20240704T200000
DTSTAMP:20260419T222300
CREATED:20220726T215921Z
LAST-MODIFIED:20220809T173916Z
UID:10012243-1720119600-1720123200@pontevedra.church
SUMMARY:Chancel Choir Rehearsal
DESCRIPTION:Our Chancel Choir meets every Thursday evening for rehearsal. We are always open to new members\, regardless of your vocal experience. Whether you’re a trained vocalist or someone who just loves to sing\, we would be thrilled to have you join us.
URL:https://pontevedra.church/event/chancel-choir-rehearsal/2024-07-04/
LOCATION:PVC; Upstairs\, 76 S Roscoe Blvd\, Ponte Vedra\, 32082\, United States
CATEGORIES:Meeting,Music
ORGANIZER;CN="Scott Tinsley":MAILTO:media@pontevedra.church
END:VEVENT
BEGIN:VEVENT
DTSTART;TZID=America/New_York:20240709T183000
DTEND;TZID=America/New_York:20240709T193000
DTSTAMP:20260419T222300
CREATED:20220921T233214Z
LAST-MODIFIED:20240826T180526Z
UID:10015147-1720549800-1720553400@pontevedra.church
SUMMARY:Worship Band Practice
DESCRIPTION:
URL:https://pontevedra.church/event/worship-band-practice/2024-07-09/
LOCATION:PVC; Upstairs\, 76 S Roscoe Blvd\, Ponte Vedra\, 32082\, United States
ORGANIZER;CN="Scott Tinsley":MAILTO:media@pontevedra.church
END:VEVENT
BEGIN:VEVENT
DTSTART;TZID=America/New_York:20240711T190000
DTEND;TZID=America/New_York:20240711T200000
DTSTAMP:20260419T222300
CREATED:20220726T215921Z
LAST-MODIFIED:20220809T173916Z
UID:10012244-1720724400-1720728000@pontevedra.church
SUMMARY:Chancel Choir Rehearsal
DESCRIPTION:Our Chancel Choir meets every Thursday evening for rehearsal. We are always open to new members\, regardless of your vocal experience. Whether you’re a trained vocalist or someone who just loves to sing\, we would be thrilled to have you join us.
URL:https://pontevedra.church/event/chancel-choir-rehearsal/2024-07-11/
LOCATION:PVC; Upstairs\, 76 S Roscoe Blvd\, Ponte Vedra\, 32082\, United States
CATEGORIES:Meeting,Music
ORGANIZER;CN="Scott Tinsley":MAILTO:media@pontevedra.church
END:VEVENT
BEGIN:VEVENT
DTSTART;TZID=America/New_York:20240716T183000
DTEND;TZID=America/New_York:20240716T193000
DTSTAMP:20260419T222300
CREATED:20220921T233214Z
LAST-MODIFIED:20240826T180526Z
UID:10019355-1721154600-1721158200@pontevedra.church
SUMMARY:Worship Band Practice
DESCRIPTION:
URL:https://pontevedra.church/event/worship-band-practice/2024-07-16/
LOCATION:PVC; Upstairs\, 76 S Roscoe Blvd\, Ponte Vedra\, 32082\, United States
ORGANIZER;CN="Scott Tinsley":MAILTO:media@pontevedra.church
END:VEVENT
BEGIN:VEVENT
DTSTART;TZID=America/New_York:20240718T190000
DTEND;TZID=America/New_York:20240718T200000
DTSTAMP:20260419T222300
CREATED:20220726T215921Z
LAST-MODIFIED:20220809T173916Z
UID:10012245-1721329200-1721332800@pontevedra.church
SUMMARY:Chancel Choir Rehearsal
DESCRIPTION:Our Chancel Choir meets every Thursday evening for rehearsal. We are always open to new members\, regardless of your vocal experience. Whether you’re a trained vocalist or someone who just loves to sing\, we would be thrilled to have you join us.
URL:https://pontevedra.church/event/chancel-choir-rehearsal/2024-07-18/
LOCATION:PVC; Upstairs\, 76 S Roscoe Blvd\, Ponte Vedra\, 32082\, United States
CATEGORIES:Meeting,Music
ORGANIZER;CN="Scott Tinsley":MAILTO:media@pontevedra.church
END:VEVENT
BEGIN:VEVENT
DTSTART;TZID=America/New_York:20240723T183000
DTEND;TZID=America/New_York:20240723T193000
DTSTAMP:20260419T222300
CREATED:20220921T233214Z
LAST-MODIFIED:20240826T180526Z
UID:10015148-1721759400-1721763000@pontevedra.church
SUMMARY:Worship Band Practice
DESCRIPTION:
URL:https://pontevedra.church/event/worship-band-practice/2024-07-23/
LOCATION:PVC; Upstairs\, 76 S Roscoe Blvd\, Ponte Vedra\, 32082\, United States
ORGANIZER;CN="Scott Tinsley":MAILTO:media@pontevedra.church
END:VEVENT
BEGIN:VEVENT
DTSTART;TZID=America/New_York:20240725T190000
DTEND;TZID=America/New_York:20240725T200000
DTSTAMP:20260419T222300
CREATED:20220726T215921Z
LAST-MODIFIED:20220809T173916Z
UID:10012246-1721934000-1721937600@pontevedra.church
SUMMARY:Chancel Choir Rehearsal
DESCRIPTION:Our Chancel Choir meets every Thursday evening for rehearsal. We are always open to new members\, regardless of your vocal experience. Whether you’re a trained vocalist or someone who just loves to sing\, we would be thrilled to have you join us.
URL:https://pontevedra.church/event/chancel-choir-rehearsal/2024-07-25/
LOCATION:PVC; Upstairs\, 76 S Roscoe Blvd\, Ponte Vedra\, 32082\, United States
CATEGORIES:Meeting,Music
ORGANIZER;CN="Scott Tinsley":MAILTO:media@pontevedra.church
END:VEVENT
BEGIN:VEVENT
DTSTART;TZID=America/New_York:20240730T183000
DTEND;TZID=America/New_York:20240730T193000
DTSTAMP:20260419T222300
CREATED:20220921T233214Z
LAST-MODIFIED:20240826T180526Z
UID:10019356-1722364200-1722367800@pontevedra.church
SUMMARY:Worship Band Practice
DESCRIPTION:
URL:https://pontevedra.church/event/worship-band-practice/2024-07-30/
LOCATION:PVC; Upstairs\, 76 S Roscoe Blvd\, Ponte Vedra\, 32082\, United States
ORGANIZER;CN="Scott Tinsley":MAILTO:media@pontevedra.church
END:VEVENT
END:VCALENDAR