BEGIN:VCALENDAR
VERSION:2.0
PRODID:-//Ponte Vedra Church - ECPv6.15.20//NONSGML v1.0//EN
CALSCALE:GREGORIAN
METHOD:PUBLISH
X-ORIGINAL-URL:https://pontevedra.church
X-WR-CALDESC:Events for Ponte Vedra Church
REFRESH-INTERVAL;VALUE=DURATION:PT1H
X-Robots-Tag:noindex
X-PUBLISHED-TTL:PT1H
BEGIN:VTIMEZONE
TZID:America/New_York
BEGIN:DAYLIGHT
TZOFFSETFROM:-0500
TZOFFSETTO:-0400
TZNAME:EDT
DTSTART:20230312T070000
END:DAYLIGHT
BEGIN:STANDARD
TZOFFSETFROM:-0400
TZOFFSETTO:-0500
TZNAME:EST
DTSTART:20231105T060000
END:STANDARD
BEGIN:DAYLIGHT
TZOFFSETFROM:-0500
TZOFFSETTO:-0400
TZNAME:EDT
DTSTART:20240310T070000
END:DAYLIGHT
BEGIN:STANDARD
TZOFFSETFROM:-0400
TZOFFSETTO:-0500
TZNAME:EST
DTSTART:20241103T060000
END:STANDARD
BEGIN:DAYLIGHT
TZOFFSETFROM:-0500
TZOFFSETTO:-0400
TZNAME:EDT
DTSTART:20250309T070000
END:DAYLIGHT
BEGIN:STANDARD
TZOFFSETFROM:-0400
TZOFFSETTO:-0500
TZNAME:EST
DTSTART:20251102T060000
END:STANDARD
END:VTIMEZONE
BEGIN:VEVENT
DTSTART;TZID=America/New_York:20240604T183000
DTEND;TZID=America/New_York:20240604T193000
DTSTAMP:20260419T235422
CREATED:20220921T233214Z
LAST-MODIFIED:20240826T180526Z
UID:10019352-1717525800-1717529400@pontevedra.church
SUMMARY:Worship Band Practice
DESCRIPTION:
URL:https://pontevedra.church/event/worship-band-practice/2024-06-04/
LOCATION:PVC; Upstairs\, 76 S Roscoe Blvd\, Ponte Vedra\, 32082\, United States
ORGANIZER;CN="Scott Tinsley":MAILTO:media@pontevedra.church
END:VEVENT
BEGIN:VEVENT
DTSTART;TZID=America/New_York:20240605T183000
DTEND;TZID=America/New_York:20240605T193000
DTSTAMP:20260419T235422
CREATED:20220726T214513Z
LAST-MODIFIED:20250923T170128Z
UID:10021076-1717612200-1717615800@pontevedra.church
SUMMARY:YCAM
DESCRIPTION:Youth Creative Arts Ministry is an upbeat worship band led by Scott Tinsley. This group is open to anyone 7th-12th grade. For more information\, contact Scott Tinsley at media@pontevedra.church
URL:https://pontevedra.church/event/ycam-2/2024-06-05/
LOCATION:PVC\, 76 S Roscoe Blvd\, Ponte Vedra\, FL\, 32082
CATEGORIES:Youth
ORGANIZER;CN="Scott Tinsley":MAILTO:media@pontevedra.church
END:VEVENT
BEGIN:VEVENT
DTSTART;TZID=America/New_York:20240606T190000
DTEND;TZID=America/New_York:20240606T200000
DTSTAMP:20260419T235422
CREATED:20220726T215921Z
LAST-MODIFIED:20220809T173916Z
UID:10012239-1717700400-1717704000@pontevedra.church
SUMMARY:Chancel Choir Rehearsal
DESCRIPTION:Our Chancel Choir meets every Thursday evening for rehearsal. We are always open to new members\, regardless of your vocal experience. Whether you’re a trained vocalist or someone who just loves to sing\, we would be thrilled to have you join us.
URL:https://pontevedra.church/event/chancel-choir-rehearsal/2024-06-06/
LOCATION:PVC; Upstairs\, 76 S Roscoe Blvd\, Ponte Vedra\, 32082\, United States
CATEGORIES:Meeting,Music
ORGANIZER;CN="Scott Tinsley":MAILTO:media@pontevedra.church
END:VEVENT
BEGIN:VEVENT
DTSTART;TZID=America/New_York:20240611T183000
DTEND;TZID=America/New_York:20240611T193000
DTSTAMP:20260419T235422
CREATED:20220921T233214Z
LAST-MODIFIED:20240826T180526Z
UID:10015145-1718130600-1718134200@pontevedra.church
SUMMARY:Worship Band Practice
DESCRIPTION:
URL:https://pontevedra.church/event/worship-band-practice/2024-06-11/
LOCATION:PVC; Upstairs\, 76 S Roscoe Blvd\, Ponte Vedra\, 32082\, United States
ORGANIZER;CN="Scott Tinsley":MAILTO:media@pontevedra.church
END:VEVENT
BEGIN:VEVENT
DTSTART;TZID=America/New_York:20240612T183000
DTEND;TZID=America/New_York:20240612T193000
DTSTAMP:20260419T235422
CREATED:20220726T214513Z
LAST-MODIFIED:20250923T170128Z
UID:10021077-1718217000-1718220600@pontevedra.church
SUMMARY:YCAM
DESCRIPTION:Youth Creative Arts Ministry is an upbeat worship band led by Scott Tinsley. This group is open to anyone 7th-12th grade. For more information\, contact Scott Tinsley at media@pontevedra.church
URL:https://pontevedra.church/event/ycam-2/2024-06-12/
LOCATION:PVC\, 76 S Roscoe Blvd\, Ponte Vedra\, FL\, 32082
CATEGORIES:Youth
ORGANIZER;CN="Scott Tinsley":MAILTO:media@pontevedra.church
END:VEVENT
BEGIN:VEVENT
DTSTART;TZID=America/New_York:20240613T190000
DTEND;TZID=America/New_York:20240613T200000
DTSTAMP:20260419T235422
CREATED:20220726T215921Z
LAST-MODIFIED:20220809T173916Z
UID:10012240-1718305200-1718308800@pontevedra.church
SUMMARY:Chancel Choir Rehearsal
DESCRIPTION:Our Chancel Choir meets every Thursday evening for rehearsal. We are always open to new members\, regardless of your vocal experience. Whether you’re a trained vocalist or someone who just loves to sing\, we would be thrilled to have you join us.
URL:https://pontevedra.church/event/chancel-choir-rehearsal/2024-06-13/
LOCATION:PVC; Upstairs\, 76 S Roscoe Blvd\, Ponte Vedra\, 32082\, United States
CATEGORIES:Meeting,Music
ORGANIZER;CN="Scott Tinsley":MAILTO:media@pontevedra.church
END:VEVENT
BEGIN:VEVENT
DTSTART;TZID=America/New_York:20240618T183000
DTEND;TZID=America/New_York:20240618T193000
DTSTAMP:20260419T235422
CREATED:20220921T233214Z
LAST-MODIFIED:20240826T180526Z
UID:10019353-1718735400-1718739000@pontevedra.church
SUMMARY:Worship Band Practice
DESCRIPTION:
URL:https://pontevedra.church/event/worship-band-practice/2024-06-18/
LOCATION:PVC; Upstairs\, 76 S Roscoe Blvd\, Ponte Vedra\, 32082\, United States
ORGANIZER;CN="Scott Tinsley":MAILTO:media@pontevedra.church
END:VEVENT
BEGIN:VEVENT
DTSTART;TZID=America/New_York:20240619T183000
DTEND;TZID=America/New_York:20240619T193000
DTSTAMP:20260419T235422
CREATED:20220726T214513Z
LAST-MODIFIED:20250923T170128Z
UID:10021078-1718821800-1718825400@pontevedra.church
SUMMARY:YCAM
DESCRIPTION:Youth Creative Arts Ministry is an upbeat worship band led by Scott Tinsley. This group is open to anyone 7th-12th grade. For more information\, contact Scott Tinsley at media@pontevedra.church
URL:https://pontevedra.church/event/ycam-2/2024-06-19/
LOCATION:PVC\, 76 S Roscoe Blvd\, Ponte Vedra\, FL\, 32082
CATEGORIES:Youth
ORGANIZER;CN="Scott Tinsley":MAILTO:media@pontevedra.church
END:VEVENT
BEGIN:VEVENT
DTSTART;TZID=America/New_York:20240620T190000
DTEND;TZID=America/New_York:20240620T200000
DTSTAMP:20260419T235422
CREATED:20220726T215921Z
LAST-MODIFIED:20220809T173916Z
UID:10012241-1718910000-1718913600@pontevedra.church
SUMMARY:Chancel Choir Rehearsal
DESCRIPTION:Our Chancel Choir meets every Thursday evening for rehearsal. We are always open to new members\, regardless of your vocal experience. Whether you’re a trained vocalist or someone who just loves to sing\, we would be thrilled to have you join us.
URL:https://pontevedra.church/event/chancel-choir-rehearsal/2024-06-20/
LOCATION:PVC; Upstairs\, 76 S Roscoe Blvd\, Ponte Vedra\, 32082\, United States
CATEGORIES:Meeting,Music
ORGANIZER;CN="Scott Tinsley":MAILTO:media@pontevedra.church
END:VEVENT
BEGIN:VEVENT
DTSTART;TZID=America/New_York:20240625T183000
DTEND;TZID=America/New_York:20240625T193000
DTSTAMP:20260419T235422
CREATED:20220921T233214Z
LAST-MODIFIED:20240826T180526Z
UID:10015146-1719340200-1719343800@pontevedra.church
SUMMARY:Worship Band Practice
DESCRIPTION:
URL:https://pontevedra.church/event/worship-band-practice/2024-06-25/
LOCATION:PVC; Upstairs\, 76 S Roscoe Blvd\, Ponte Vedra\, 32082\, United States
ORGANIZER;CN="Scott Tinsley":MAILTO:media@pontevedra.church
END:VEVENT
BEGIN:VEVENT
DTSTART;TZID=America/New_York:20240626T183000
DTEND;TZID=America/New_York:20240626T193000
DTSTAMP:20260419T235422
CREATED:20220726T214513Z
LAST-MODIFIED:20250923T170128Z
UID:10021079-1719426600-1719430200@pontevedra.church
SUMMARY:YCAM
DESCRIPTION:Youth Creative Arts Ministry is an upbeat worship band led by Scott Tinsley. This group is open to anyone 7th-12th grade. For more information\, contact Scott Tinsley at media@pontevedra.church
URL:https://pontevedra.church/event/ycam-2/2024-06-26/
LOCATION:PVC\, 76 S Roscoe Blvd\, Ponte Vedra\, FL\, 32082
CATEGORIES:Youth
ORGANIZER;CN="Scott Tinsley":MAILTO:media@pontevedra.church
END:VEVENT
BEGIN:VEVENT
DTSTART;TZID=America/New_York:20240627T190000
DTEND;TZID=America/New_York:20240627T200000
DTSTAMP:20260419T235422
CREATED:20220726T215921Z
LAST-MODIFIED:20220809T173916Z
UID:10012242-1719514800-1719518400@pontevedra.church
SUMMARY:Chancel Choir Rehearsal
DESCRIPTION:Our Chancel Choir meets every Thursday evening for rehearsal. We are always open to new members\, regardless of your vocal experience. Whether you’re a trained vocalist or someone who just loves to sing\, we would be thrilled to have you join us.
URL:https://pontevedra.church/event/chancel-choir-rehearsal/2024-06-27/
LOCATION:PVC; Upstairs\, 76 S Roscoe Blvd\, Ponte Vedra\, 32082\, United States
CATEGORIES:Meeting,Music
ORGANIZER;CN="Scott Tinsley":MAILTO:media@pontevedra.church
END:VEVENT
END:VCALENDAR