BEGIN:VCALENDAR
VERSION:2.0
PRODID:-//Ponte Vedra Church - ECPv6.15.20//NONSGML v1.0//EN
CALSCALE:GREGORIAN
METHOD:PUBLISH
X-WR-CALNAME:Ponte Vedra Church
X-ORIGINAL-URL:https://pontevedra.church
X-WR-CALDESC:Events for Ponte Vedra Church
REFRESH-INTERVAL;VALUE=DURATION:PT1H
X-Robots-Tag:noindex
X-PUBLISHED-TTL:PT1H
BEGIN:VTIMEZONE
TZID:America/New_York
BEGIN:DAYLIGHT
TZOFFSETFROM:-0500
TZOFFSETTO:-0400
TZNAME:EDT
DTSTART:20230312T070000
END:DAYLIGHT
BEGIN:STANDARD
TZOFFSETFROM:-0400
TZOFFSETTO:-0500
TZNAME:EST
DTSTART:20231105T060000
END:STANDARD
BEGIN:DAYLIGHT
TZOFFSETFROM:-0500
TZOFFSETTO:-0400
TZNAME:EDT
DTSTART:20240310T070000
END:DAYLIGHT
BEGIN:STANDARD
TZOFFSETFROM:-0400
TZOFFSETTO:-0500
TZNAME:EST
DTSTART:20241103T060000
END:STANDARD
BEGIN:DAYLIGHT
TZOFFSETFROM:-0500
TZOFFSETTO:-0400
TZNAME:EDT
DTSTART:20250309T070000
END:DAYLIGHT
BEGIN:STANDARD
TZOFFSETFROM:-0400
TZOFFSETTO:-0500
TZNAME:EST
DTSTART:20251102T060000
END:STANDARD
END:VTIMEZONE
BEGIN:VEVENT
DTSTART;TZID=America/New_York:20240402T183000
DTEND;TZID=America/New_York:20240402T193000
DTSTAMP:20260420T030603
CREATED:20220921T233214Z
LAST-MODIFIED:20240826T180526Z
UID:10015140-1712082600-1712086200@pontevedra.church
SUMMARY:Worship Band Practice
DESCRIPTION:
URL:https://pontevedra.church/event/worship-band-practice/2024-04-02/
LOCATION:PVC; Upstairs\, 76 S Roscoe Blvd\, Ponte Vedra\, 32082\, United States
ORGANIZER;CN="Scott Tinsley":MAILTO:media@pontevedra.church
END:VEVENT
BEGIN:VEVENT
DTSTART;TZID=America/New_York:20240403T183000
DTEND;TZID=America/New_York:20240403T193000
DTSTAMP:20260420T030603
CREATED:20220726T214513Z
LAST-MODIFIED:20250923T170128Z
UID:10021067-1712169000-1712172600@pontevedra.church
SUMMARY:YCAM
DESCRIPTION:Youth Creative Arts Ministry is an upbeat worship band led by Scott Tinsley. This group is open to anyone 7th-12th grade. For more information\, contact Scott Tinsley at media@pontevedra.church
URL:https://pontevedra.church/event/ycam-2/2024-04-03/
LOCATION:PVC\, 76 S Roscoe Blvd\, Ponte Vedra\, FL\, 32082
CATEGORIES:Youth
ORGANIZER;CN="Scott Tinsley":MAILTO:media@pontevedra.church
END:VEVENT
BEGIN:VEVENT
DTSTART;TZID=America/New_York:20240404T190000
DTEND;TZID=America/New_York:20240404T200000
DTSTAMP:20260420T030603
CREATED:20220726T215921Z
LAST-MODIFIED:20220809T173916Z
UID:10012230-1712257200-1712260800@pontevedra.church
SUMMARY:Chancel Choir Rehearsal
DESCRIPTION:Our Chancel Choir meets every Thursday evening for rehearsal. We are always open to new members\, regardless of your vocal experience. Whether you’re a trained vocalist or someone who just loves to sing\, we would be thrilled to have you join us.
URL:https://pontevedra.church/event/chancel-choir-rehearsal/2024-04-04/
LOCATION:PVC; Upstairs\, 76 S Roscoe Blvd\, Ponte Vedra\, 32082\, United States
CATEGORIES:Meeting,Music
ORGANIZER;CN="Scott Tinsley":MAILTO:media@pontevedra.church
END:VEVENT
BEGIN:VEVENT
DTSTART;TZID=America/New_York:20240409T183000
DTEND;TZID=America/New_York:20240409T193000
DTSTAMP:20260420T030603
CREATED:20220921T233214Z
LAST-MODIFIED:20240826T180526Z
UID:10019348-1712687400-1712691000@pontevedra.church
SUMMARY:Worship Band Practice
DESCRIPTION:
URL:https://pontevedra.church/event/worship-band-practice/2024-04-09/
LOCATION:PVC; Upstairs\, 76 S Roscoe Blvd\, Ponte Vedra\, 32082\, United States
ORGANIZER;CN="Scott Tinsley":MAILTO:media@pontevedra.church
END:VEVENT
BEGIN:VEVENT
DTSTART;TZID=America/New_York:20240410T183000
DTEND;TZID=America/New_York:20240410T193000
DTSTAMP:20260420T030603
CREATED:20220726T214513Z
LAST-MODIFIED:20250923T170128Z
UID:10021068-1712773800-1712777400@pontevedra.church
SUMMARY:YCAM
DESCRIPTION:Youth Creative Arts Ministry is an upbeat worship band led by Scott Tinsley. This group is open to anyone 7th-12th grade. For more information\, contact Scott Tinsley at media@pontevedra.church
URL:https://pontevedra.church/event/ycam-2/2024-04-10/
LOCATION:PVC\, 76 S Roscoe Blvd\, Ponte Vedra\, FL\, 32082
CATEGORIES:Youth
ORGANIZER;CN="Scott Tinsley":MAILTO:media@pontevedra.church
END:VEVENT
BEGIN:VEVENT
DTSTART;TZID=America/New_York:20240411T190000
DTEND;TZID=America/New_York:20240411T200000
DTSTAMP:20260420T030603
CREATED:20220726T215921Z
LAST-MODIFIED:20220809T173916Z
UID:10012231-1712862000-1712865600@pontevedra.church
SUMMARY:Chancel Choir Rehearsal
DESCRIPTION:Our Chancel Choir meets every Thursday evening for rehearsal. We are always open to new members\, regardless of your vocal experience. Whether you’re a trained vocalist or someone who just loves to sing\, we would be thrilled to have you join us.
URL:https://pontevedra.church/event/chancel-choir-rehearsal/2024-04-11/
LOCATION:PVC; Upstairs\, 76 S Roscoe Blvd\, Ponte Vedra\, 32082\, United States
CATEGORIES:Meeting,Music
ORGANIZER;CN="Scott Tinsley":MAILTO:media@pontevedra.church
END:VEVENT
BEGIN:VEVENT
DTSTART;TZID=America/New_York:20240416T183000
DTEND;TZID=America/New_York:20240416T193000
DTSTAMP:20260420T030603
CREATED:20220921T233214Z
LAST-MODIFIED:20240826T180526Z
UID:10015141-1713292200-1713295800@pontevedra.church
SUMMARY:Worship Band Practice
DESCRIPTION:
URL:https://pontevedra.church/event/worship-band-practice/2024-04-16/
LOCATION:PVC; Upstairs\, 76 S Roscoe Blvd\, Ponte Vedra\, 32082\, United States
ORGANIZER;CN="Scott Tinsley":MAILTO:media@pontevedra.church
END:VEVENT
BEGIN:VEVENT
DTSTART;TZID=America/New_York:20240417T183000
DTEND;TZID=America/New_York:20240417T193000
DTSTAMP:20260420T030603
CREATED:20220726T214513Z
LAST-MODIFIED:20250923T170128Z
UID:10021069-1713378600-1713382200@pontevedra.church
SUMMARY:YCAM
DESCRIPTION:Youth Creative Arts Ministry is an upbeat worship band led by Scott Tinsley. This group is open to anyone 7th-12th grade. For more information\, contact Scott Tinsley at media@pontevedra.church
URL:https://pontevedra.church/event/ycam-2/2024-04-17/
LOCATION:PVC\, 76 S Roscoe Blvd\, Ponte Vedra\, FL\, 32082
CATEGORIES:Youth
ORGANIZER;CN="Scott Tinsley":MAILTO:media@pontevedra.church
END:VEVENT
BEGIN:VEVENT
DTSTART;TZID=America/New_York:20240418T190000
DTEND;TZID=America/New_York:20240418T200000
DTSTAMP:20260420T030603
CREATED:20220726T215921Z
LAST-MODIFIED:20220809T173916Z
UID:10012232-1713466800-1713470400@pontevedra.church
SUMMARY:Chancel Choir Rehearsal
DESCRIPTION:Our Chancel Choir meets every Thursday evening for rehearsal. We are always open to new members\, regardless of your vocal experience. Whether you’re a trained vocalist or someone who just loves to sing\, we would be thrilled to have you join us.
URL:https://pontevedra.church/event/chancel-choir-rehearsal/2024-04-18/
LOCATION:PVC; Upstairs\, 76 S Roscoe Blvd\, Ponte Vedra\, 32082\, United States
CATEGORIES:Meeting,Music
ORGANIZER;CN="Scott Tinsley":MAILTO:media@pontevedra.church
END:VEVENT
BEGIN:VEVENT
DTSTART;TZID=America/New_York:20240423T183000
DTEND;TZID=America/New_York:20240423T193000
DTSTAMP:20260420T030603
CREATED:20220921T233214Z
LAST-MODIFIED:20240826T180526Z
UID:10019349-1713897000-1713900600@pontevedra.church
SUMMARY:Worship Band Practice
DESCRIPTION:
URL:https://pontevedra.church/event/worship-band-practice/2024-04-23/
LOCATION:PVC; Upstairs\, 76 S Roscoe Blvd\, Ponte Vedra\, 32082\, United States
ORGANIZER;CN="Scott Tinsley":MAILTO:media@pontevedra.church
END:VEVENT
BEGIN:VEVENT
DTSTART;TZID=America/New_York:20240424T183000
DTEND;TZID=America/New_York:20240424T193000
DTSTAMP:20260420T030603
CREATED:20220726T214513Z
LAST-MODIFIED:20250923T170128Z
UID:10021070-1713983400-1713987000@pontevedra.church
SUMMARY:YCAM
DESCRIPTION:Youth Creative Arts Ministry is an upbeat worship band led by Scott Tinsley. This group is open to anyone 7th-12th grade. For more information\, contact Scott Tinsley at media@pontevedra.church
URL:https://pontevedra.church/event/ycam-2/2024-04-24/
LOCATION:PVC\, 76 S Roscoe Blvd\, Ponte Vedra\, FL\, 32082
CATEGORIES:Youth
ORGANIZER;CN="Scott Tinsley":MAILTO:media@pontevedra.church
END:VEVENT
BEGIN:VEVENT
DTSTART;TZID=America/New_York:20240425T190000
DTEND;TZID=America/New_York:20240425T200000
DTSTAMP:20260420T030603
CREATED:20220726T215921Z
LAST-MODIFIED:20220809T173916Z
UID:10012233-1714071600-1714075200@pontevedra.church
SUMMARY:Chancel Choir Rehearsal
DESCRIPTION:Our Chancel Choir meets every Thursday evening for rehearsal. We are always open to new members\, regardless of your vocal experience. Whether you’re a trained vocalist or someone who just loves to sing\, we would be thrilled to have you join us.
URL:https://pontevedra.church/event/chancel-choir-rehearsal/2024-04-25/
LOCATION:PVC; Upstairs\, 76 S Roscoe Blvd\, Ponte Vedra\, 32082\, United States
CATEGORIES:Meeting,Music
ORGANIZER;CN="Scott Tinsley":MAILTO:media@pontevedra.church
END:VEVENT
BEGIN:VEVENT
DTSTART;TZID=America/New_York:20240430T183000
DTEND;TZID=America/New_York:20240430T193000
DTSTAMP:20260420T030603
CREATED:20220921T233214Z
LAST-MODIFIED:20240826T180526Z
UID:10015142-1714501800-1714505400@pontevedra.church
SUMMARY:Worship Band Practice
DESCRIPTION:
URL:https://pontevedra.church/event/worship-band-practice/2024-04-30/
LOCATION:PVC; Upstairs\, 76 S Roscoe Blvd\, Ponte Vedra\, 32082\, United States
ORGANIZER;CN="Scott Tinsley":MAILTO:media@pontevedra.church
END:VEVENT
END:VCALENDAR