BEGIN:VCALENDAR
VERSION:2.0
PRODID:-//Ponte Vedra Church - ECPv6.15.20//NONSGML v1.0//EN
CALSCALE:GREGORIAN
METHOD:PUBLISH
X-WR-CALNAME:Ponte Vedra Church
X-ORIGINAL-URL:https://pontevedra.church
X-WR-CALDESC:Events for Ponte Vedra Church
REFRESH-INTERVAL;VALUE=DURATION:PT1H
X-Robots-Tag:noindex
X-PUBLISHED-TTL:PT1H
BEGIN:VTIMEZONE
TZID:America/New_York
BEGIN:DAYLIGHT
TZOFFSETFROM:-0500
TZOFFSETTO:-0400
TZNAME:EDT
DTSTART:20230312T070000
END:DAYLIGHT
BEGIN:STANDARD
TZOFFSETFROM:-0400
TZOFFSETTO:-0500
TZNAME:EST
DTSTART:20231105T060000
END:STANDARD
BEGIN:DAYLIGHT
TZOFFSETFROM:-0500
TZOFFSETTO:-0400
TZNAME:EDT
DTSTART:20240310T070000
END:DAYLIGHT
BEGIN:STANDARD
TZOFFSETFROM:-0400
TZOFFSETTO:-0500
TZNAME:EST
DTSTART:20241103T060000
END:STANDARD
BEGIN:DAYLIGHT
TZOFFSETFROM:-0500
TZOFFSETTO:-0400
TZNAME:EDT
DTSTART:20250309T070000
END:DAYLIGHT
BEGIN:STANDARD
TZOFFSETFROM:-0400
TZOFFSETTO:-0500
TZNAME:EST
DTSTART:20251102T060000
END:STANDARD
END:VTIMEZONE
BEGIN:VEVENT
DTSTART;TZID=America/New_York:20240305T183000
DTEND;TZID=America/New_York:20240305T193000
DTSTAMP:20260420T081422
CREATED:20220921T233214Z
LAST-MODIFIED:20240826T180526Z
UID:10015138-1709663400-1709667000@pontevedra.church
SUMMARY:Worship Band Practice
DESCRIPTION:
URL:https://pontevedra.church/event/worship-band-practice/2024-03-05/
LOCATION:PVC; Upstairs\, 76 S Roscoe Blvd\, Ponte Vedra\, 32082\, United States
ORGANIZER;CN="Scott Tinsley":MAILTO:media@pontevedra.church
END:VEVENT
BEGIN:VEVENT
DTSTART;TZID=America/New_York:20240306T183000
DTEND;TZID=America/New_York:20240306T193000
DTSTAMP:20260420T081422
CREATED:20220726T214513Z
LAST-MODIFIED:20250923T170128Z
UID:10021063-1709749800-1709753400@pontevedra.church
SUMMARY:YCAM
DESCRIPTION:Youth Creative Arts Ministry is an upbeat worship band led by Scott Tinsley. This group is open to anyone 7th-12th grade. For more information\, contact Scott Tinsley at media@pontevedra.church
URL:https://pontevedra.church/event/ycam-2/2024-03-06/
LOCATION:PVC\, 76 S Roscoe Blvd\, Ponte Vedra\, FL\, 32082
CATEGORIES:Youth
ORGANIZER;CN="Scott Tinsley":MAILTO:media@pontevedra.church
END:VEVENT
BEGIN:VEVENT
DTSTART;TZID=America/New_York:20240307T190000
DTEND;TZID=America/New_York:20240307T200000
DTSTAMP:20260420T081422
CREATED:20220726T215921Z
LAST-MODIFIED:20220809T173916Z
UID:10012226-1709838000-1709841600@pontevedra.church
SUMMARY:Chancel Choir Rehearsal
DESCRIPTION:Our Chancel Choir meets every Thursday evening for rehearsal. We are always open to new members\, regardless of your vocal experience. Whether you’re a trained vocalist or someone who just loves to sing\, we would be thrilled to have you join us.
URL:https://pontevedra.church/event/chancel-choir-rehearsal/2024-03-07/
LOCATION:PVC; Upstairs\, 76 S Roscoe Blvd\, Ponte Vedra\, 32082\, United States
CATEGORIES:Meeting,Music
ORGANIZER;CN="Scott Tinsley":MAILTO:media@pontevedra.church
END:VEVENT
BEGIN:VEVENT
DTSTART;TZID=America/New_York:20240312T183000
DTEND;TZID=America/New_York:20240312T193000
DTSTAMP:20260420T081422
CREATED:20220921T233214Z
LAST-MODIFIED:20240826T180526Z
UID:10019346-1710268200-1710271800@pontevedra.church
SUMMARY:Worship Band Practice
DESCRIPTION:
URL:https://pontevedra.church/event/worship-band-practice/2024-03-12/
LOCATION:PVC; Upstairs\, 76 S Roscoe Blvd\, Ponte Vedra\, 32082\, United States
ORGANIZER;CN="Scott Tinsley":MAILTO:media@pontevedra.church
END:VEVENT
BEGIN:VEVENT
DTSTART;TZID=America/New_York:20240313T183000
DTEND;TZID=America/New_York:20240313T193000
DTSTAMP:20260420T081422
CREATED:20220726T214513Z
LAST-MODIFIED:20250923T170128Z
UID:10021064-1710354600-1710358200@pontevedra.church
SUMMARY:YCAM
DESCRIPTION:Youth Creative Arts Ministry is an upbeat worship band led by Scott Tinsley. This group is open to anyone 7th-12th grade. For more information\, contact Scott Tinsley at media@pontevedra.church
URL:https://pontevedra.church/event/ycam-2/2024-03-13/
LOCATION:PVC\, 76 S Roscoe Blvd\, Ponte Vedra\, FL\, 32082
CATEGORIES:Youth
ORGANIZER;CN="Scott Tinsley":MAILTO:media@pontevedra.church
END:VEVENT
BEGIN:VEVENT
DTSTART;TZID=America/New_York:20240314T190000
DTEND;TZID=America/New_York:20240314T200000
DTSTAMP:20260420T081422
CREATED:20220726T215921Z
LAST-MODIFIED:20220809T173916Z
UID:10012227-1710442800-1710446400@pontevedra.church
SUMMARY:Chancel Choir Rehearsal
DESCRIPTION:Our Chancel Choir meets every Thursday evening for rehearsal. We are always open to new members\, regardless of your vocal experience. Whether you’re a trained vocalist or someone who just loves to sing\, we would be thrilled to have you join us.
URL:https://pontevedra.church/event/chancel-choir-rehearsal/2024-03-14/
LOCATION:PVC; Upstairs\, 76 S Roscoe Blvd\, Ponte Vedra\, 32082\, United States
CATEGORIES:Meeting,Music
ORGANIZER;CN="Scott Tinsley":MAILTO:media@pontevedra.church
END:VEVENT
BEGIN:VEVENT
DTSTART;TZID=America/New_York:20240319T183000
DTEND;TZID=America/New_York:20240319T193000
DTSTAMP:20260420T081422
CREATED:20220921T233214Z
LAST-MODIFIED:20240826T180526Z
UID:10015139-1710873000-1710876600@pontevedra.church
SUMMARY:Worship Band Practice
DESCRIPTION:
URL:https://pontevedra.church/event/worship-band-practice/2024-03-19/
LOCATION:PVC; Upstairs\, 76 S Roscoe Blvd\, Ponte Vedra\, 32082\, United States
ORGANIZER;CN="Scott Tinsley":MAILTO:media@pontevedra.church
END:VEVENT
BEGIN:VEVENT
DTSTART;TZID=America/New_York:20240320T183000
DTEND;TZID=America/New_York:20240320T193000
DTSTAMP:20260420T081422
CREATED:20220726T214513Z
LAST-MODIFIED:20250923T170128Z
UID:10021065-1710959400-1710963000@pontevedra.church
SUMMARY:YCAM
DESCRIPTION:Youth Creative Arts Ministry is an upbeat worship band led by Scott Tinsley. This group is open to anyone 7th-12th grade. For more information\, contact Scott Tinsley at media@pontevedra.church
URL:https://pontevedra.church/event/ycam-2/2024-03-20/
LOCATION:PVC\, 76 S Roscoe Blvd\, Ponte Vedra\, FL\, 32082
CATEGORIES:Youth
ORGANIZER;CN="Scott Tinsley":MAILTO:media@pontevedra.church
END:VEVENT
BEGIN:VEVENT
DTSTART;TZID=America/New_York:20240321T190000
DTEND;TZID=America/New_York:20240321T200000
DTSTAMP:20260420T081422
CREATED:20220726T215921Z
LAST-MODIFIED:20220809T173916Z
UID:10012228-1711047600-1711051200@pontevedra.church
SUMMARY:Chancel Choir Rehearsal
DESCRIPTION:Our Chancel Choir meets every Thursday evening for rehearsal. We are always open to new members\, regardless of your vocal experience. Whether you’re a trained vocalist or someone who just loves to sing\, we would be thrilled to have you join us.
URL:https://pontevedra.church/event/chancel-choir-rehearsal/2024-03-21/
LOCATION:PVC; Upstairs\, 76 S Roscoe Blvd\, Ponte Vedra\, 32082\, United States
CATEGORIES:Meeting,Music
ORGANIZER;CN="Scott Tinsley":MAILTO:media@pontevedra.church
END:VEVENT
BEGIN:VEVENT
DTSTART;TZID=America/New_York:20240326T183000
DTEND;TZID=America/New_York:20240326T193000
DTSTAMP:20260420T081422
CREATED:20220921T233214Z
LAST-MODIFIED:20240826T180526Z
UID:10019347-1711477800-1711481400@pontevedra.church
SUMMARY:Worship Band Practice
DESCRIPTION:
URL:https://pontevedra.church/event/worship-band-practice/2024-03-26/
LOCATION:PVC; Upstairs\, 76 S Roscoe Blvd\, Ponte Vedra\, 32082\, United States
ORGANIZER;CN="Scott Tinsley":MAILTO:media@pontevedra.church
END:VEVENT
BEGIN:VEVENT
DTSTART;TZID=America/New_York:20240327T183000
DTEND;TZID=America/New_York:20240327T193000
DTSTAMP:20260420T081422
CREATED:20220726T214513Z
LAST-MODIFIED:20250923T170128Z
UID:10021066-1711564200-1711567800@pontevedra.church
SUMMARY:YCAM
DESCRIPTION:Youth Creative Arts Ministry is an upbeat worship band led by Scott Tinsley. This group is open to anyone 7th-12th grade. For more information\, contact Scott Tinsley at media@pontevedra.church
URL:https://pontevedra.church/event/ycam-2/2024-03-27/
LOCATION:PVC\, 76 S Roscoe Blvd\, Ponte Vedra\, FL\, 32082
CATEGORIES:Youth
ORGANIZER;CN="Scott Tinsley":MAILTO:media@pontevedra.church
END:VEVENT
BEGIN:VEVENT
DTSTART;TZID=America/New_York:20240328T190000
DTEND;TZID=America/New_York:20240328T200000
DTSTAMP:20260420T081422
CREATED:20220726T215921Z
LAST-MODIFIED:20220809T173916Z
UID:10012229-1711652400-1711656000@pontevedra.church
SUMMARY:Chancel Choir Rehearsal
DESCRIPTION:Our Chancel Choir meets every Thursday evening for rehearsal. We are always open to new members\, regardless of your vocal experience. Whether you’re a trained vocalist or someone who just loves to sing\, we would be thrilled to have you join us.
URL:https://pontevedra.church/event/chancel-choir-rehearsal/2024-03-28/
LOCATION:PVC; Upstairs\, 76 S Roscoe Blvd\, Ponte Vedra\, 32082\, United States
CATEGORIES:Meeting,Music
ORGANIZER;CN="Scott Tinsley":MAILTO:media@pontevedra.church
END:VEVENT
END:VCALENDAR