BEGIN:VCALENDAR
VERSION:2.0
PRODID:-//Ponte Vedra Church - ECPv6.15.20//NONSGML v1.0//EN
CALSCALE:GREGORIAN
METHOD:PUBLISH
X-ORIGINAL-URL:https://pontevedra.church
X-WR-CALDESC:Events for Ponte Vedra Church
REFRESH-INTERVAL;VALUE=DURATION:PT1H
X-Robots-Tag:noindex
X-PUBLISHED-TTL:PT1H
BEGIN:VTIMEZONE
TZID:America/New_York
BEGIN:DAYLIGHT
TZOFFSETFROM:-0500
TZOFFSETTO:-0400
TZNAME:EDT
DTSTART:20230312T070000
END:DAYLIGHT
BEGIN:STANDARD
TZOFFSETFROM:-0400
TZOFFSETTO:-0500
TZNAME:EST
DTSTART:20231105T060000
END:STANDARD
BEGIN:DAYLIGHT
TZOFFSETFROM:-0500
TZOFFSETTO:-0400
TZNAME:EDT
DTSTART:20240310T070000
END:DAYLIGHT
BEGIN:STANDARD
TZOFFSETFROM:-0400
TZOFFSETTO:-0500
TZNAME:EST
DTSTART:20241103T060000
END:STANDARD
BEGIN:DAYLIGHT
TZOFFSETFROM:-0500
TZOFFSETTO:-0400
TZNAME:EDT
DTSTART:20250309T070000
END:DAYLIGHT
BEGIN:STANDARD
TZOFFSETFROM:-0400
TZOFFSETTO:-0500
TZNAME:EST
DTSTART:20251102T060000
END:STANDARD
END:VTIMEZONE
BEGIN:VEVENT
DTSTART;TZID=America/New_York:20240628T090000
DTEND;TZID=America/New_York:20240628T120000
DTSTAMP:20260420T084155
CREATED:20240414T231634Z
LAST-MODIFIED:20240414T231634Z
UID:10017866-1719565200-1719576000@pontevedra.church
SUMMARY:Vacation Bible School
DESCRIPTION:https://pontevedra.church/wp-content/uploads/2024/04/VBS2024PromoVideo.mp4
URL:https://pontevedra.church/event/vacation-bible-school-2024/2024-06-28/
LOCATION:PVC\, 76 S Roscoe Blvd\, Ponte Vedra\, FL\, 32082
CATEGORIES:Children's Ministry,Missions,Volunteer,Youth
ORGANIZER;CN="Taylor Hall":MAILTO:childrensministry@pontevedra.church
END:VEVENT
BEGIN:VEVENT
DTSTART;TZID=America/New_York:20240627T090000
DTEND;TZID=America/New_York:20240627T120000
DTSTAMP:20260420T084155
CREATED:20240414T231634Z
LAST-MODIFIED:20240414T231634Z
UID:10017865-1719478800-1719489600@pontevedra.church
SUMMARY:Vacation Bible School
DESCRIPTION:https://pontevedra.church/wp-content/uploads/2024/04/VBS2024PromoVideo.mp4
URL:https://pontevedra.church/event/vacation-bible-school-2024/2024-06-27/
LOCATION:PVC\, 76 S Roscoe Blvd\, Ponte Vedra\, FL\, 32082
CATEGORIES:Children's Ministry,Missions,Volunteer,Youth
ORGANIZER;CN="Taylor Hall":MAILTO:childrensministry@pontevedra.church
END:VEVENT
BEGIN:VEVENT
DTSTART;TZID=America/New_York:20240626T090000
DTEND;TZID=America/New_York:20240626T120000
DTSTAMP:20260420T084155
CREATED:20240414T231634Z
LAST-MODIFIED:20240414T231634Z
UID:10017864-1719392400-1719403200@pontevedra.church
SUMMARY:Vacation Bible School
DESCRIPTION:https://pontevedra.church/wp-content/uploads/2024/04/VBS2024PromoVideo.mp4
URL:https://pontevedra.church/event/vacation-bible-school-2024/2024-06-26/
LOCATION:PVC\, 76 S Roscoe Blvd\, Ponte Vedra\, FL\, 32082
CATEGORIES:Children's Ministry,Missions,Volunteer,Youth
ORGANIZER;CN="Taylor Hall":MAILTO:childrensministry@pontevedra.church
END:VEVENT
BEGIN:VEVENT
DTSTART;TZID=America/New_York:20240625T090000
DTEND;TZID=America/New_York:20240625T120000
DTSTAMP:20260420T084155
CREATED:20240414T231634Z
LAST-MODIFIED:20240414T231634Z
UID:10017863-1719306000-1719316800@pontevedra.church
SUMMARY:Vacation Bible School
DESCRIPTION:https://pontevedra.church/wp-content/uploads/2024/04/VBS2024PromoVideo.mp4
URL:https://pontevedra.church/event/vacation-bible-school-2024/2024-06-25/
LOCATION:PVC\, 76 S Roscoe Blvd\, Ponte Vedra\, FL\, 32082
CATEGORIES:Children's Ministry,Missions,Volunteer,Youth
ORGANIZER;CN="Taylor Hall":MAILTO:childrensministry@pontevedra.church
END:VEVENT
BEGIN:VEVENT
DTSTART;TZID=America/New_York:20240624T090000
DTEND;TZID=America/New_York:20240624T120000
DTSTAMP:20260420T084155
CREATED:20240414T231634Z
LAST-MODIFIED:20240414T231634Z
UID:10017862-1719219600-1719230400@pontevedra.church
SUMMARY:Vacation Bible School
DESCRIPTION:https://pontevedra.church/wp-content/uploads/2024/04/VBS2024PromoVideo.mp4
URL:https://pontevedra.church/event/vacation-bible-school-2024/2024-06-24/
LOCATION:PVC\, 76 S Roscoe Blvd\, Ponte Vedra\, FL\, 32082
CATEGORIES:Children's Ministry,Missions,Volunteer,Youth
ORGANIZER;CN="Taylor Hall":MAILTO:childrensministry@pontevedra.church
END:VEVENT
END:VCALENDAR